BEGIN:VCALENDAR
VERSION:2.0
PRODID:-//ChamberMaster//Event Calendar 2.0//EN
METHOD:PUBLISH
X-PUBLISHED-TTL:P3D
REFRESH-INTERVAL:P3D
CALSCALE:GREGORIAN
BEGIN:VEVENT
DTSTART:20171107T190000Z
DTEND:20171107T210000Z
X-MICROSOFT-CDO-ALLDAYEVENT:FALSE
SUMMARY:European Wax Center Grand Re-Opening
DESCRIPTION:Please join us for the Grand Re-opening/ Ribbon Cutting Ceremony for European Wax Center!
X-ALT-DESC;FMTTYPE=text/html:Please join us for the Grand Re-opening/ Ribbon Cutting Ceremony for European Wax Center!
LOCATION:3728 N Southport Ave
UID:e.1819.11195
SEQUENCE:3
DTSTAMP:20260419T143320Z
URL:https://members.lakeviewroscoevillage.org/events/details/european-wax-center-grand-re-opening-11-07-2017-11195
END:VEVENT

END:VCALENDAR
