BEGIN:VCALENDAR
VERSION:2.0
PRODID:-//ChamberMaster//Event Calendar 2.0//EN
METHOD:PUBLISH
X-PUBLISHED-TTL:P3D
REFRESH-INTERVAL:P3D
CALSCALE:GREGORIAN
BEGIN:VEVENT
DTSTART:20140708T223000Z
DTEND:20140709T003000Z
X-MICROSOFT-CDO-ALLDAYEVENT:FALSE
SUMMARY:Event at AMERIPRISE FINANCIAL
DESCRIPTION:A Guide to Social Security: Know Your Options\; Maximize Your Benefits\n\n\n\nHosted by: Financial Advisors of the Chicago Office\n\n\n\nPresented by:\n\nRyan Madigan CIMA  CRPS  AIF \n\nSenior Vice President\n\nNuveen Investments\n\n\n\nSponsored by:\n\nNicholas Albu CFP  \n\nVice President\n\nNuveen Investments
X-ALT-DESC;FMTTYPE=text/html:<span style="font-size: 16px\;"><strong>A Guide to Social Security: Know Your Options\; Maximize Your Benefits</strong></span><br />\n<br />\n<strong>Hosted by:</strong> Financial Advisors of the Chicago Office<br />\n<br />\n<strong>Presented by:</strong><br />\nRyan Madigan CIMA<span style="font-size: medium\;"><span style="font-family: calibri\;">&reg\;&nbsp\;</span></span>CRPS<span style="font-size: medium\;"><span style="font-family: calibri\;">&reg\;&nbsp\;</span></span>AIF<span style="font-size: medium\;"><span style="font-family: calibri\;">&reg\;</span></span><br />\nSenior Vice President<br />\nNuveen Investments<br />\n<br />\n<strong>Sponsored by:</strong><br />\nNicholas Albu CFP <span style="font-size: medium\;"><span style="font-family: calibri\;">&reg\;</span></span><br />\nVice President<br />\nNuveen Investments
LOCATION:McCormick & Schmick's 41 East Chestnut Street Chicago\, IL 60611
UID:e.1819.299
SEQUENCE:3
DTSTAMP:20260424T050921Z
URL:https://members.lakeviewroscoevillage.org/events/details/event-at-ameriprise-financial-07-08-2014-299
END:VEVENT

END:VCALENDAR
