BEGIN:VCALENDAR
VERSION:2.0
PRODID:-//ChamberMaster//Event Calendar 2.0//EN
METHOD:PUBLISH
X-PUBLISHED-TTL:P3D
REFRESH-INTERVAL:P3D
CALSCALE:GREGORIAN
BEGIN:VEVENT
DTSTART:20140503T190000Z
DTEND:20140503T220000Z
X-MICROSOFT-CDO-ALLDAYEVENT:FALSE
SUMMARY:Event at AQUARIUM SALON - $20 Off women haircuts
DESCRIPTION:Stylist Lilly and Loretta are giving away $20 Off on women haircut. \n\nSaturday May 3rd ONLY!!!
X-ALT-DESC;FMTTYPE=text/html:Stylist Lilly and Loretta are giving away $20 Off on women haircut.&nbsp\;<br />\nSaturday May 3rd ONLY!!!
LOCATION:3508 N Lincoln Ave\, Chicago IL 60657
UID:e.1819.281
SEQUENCE:3
DTSTAMP:20260424T122207Z
URL:https://members.lakeviewroscoevillage.org/events/details/event-at-aquarium-salon-20-off-women-haircuts-05-03-2014-281
END:VEVENT

END:VCALENDAR
