BEGIN:VCALENDAR
VERSION:2.0
PRODID:-//ChamberMaster//Event Calendar 2.0//EN
METHOD:PUBLISH
X-PUBLISHED-TTL:P3D
REFRESH-INTERVAL:P3D
CALSCALE:GREGORIAN
BEGIN:VEVENT
DTSTART:20140420T150000Z
DTEND:20140421T020000Z
X-MICROSOFT-CDO-ALLDAYEVENT:FALSE
SUMMARY:Event at ARTANGO SOUTH AMERICAN BISTRO
DESCRIPTION:Spend Easter Sunday with your family at Artango South American Bistro where we will be offering lunch and dinner spring specials in addition to our everyday menus.
X-ALT-DESC;FMTTYPE=text/html:<span style="font-family: Arial\, 'helvetica neue'\, Helvetica\, Verdana\, sans-serif\; font-size: 14px\; line-height: 21px\;">Spend Easter Sunday with your family at Artango South American Bistro where we will be offering lunch and dinner spring specials in addition to our everyday menus.</span><br />\n&nbsp\;
LOCATION:Artango Bistro 4217 N. Ravenswood Chicago\, IL 60613 773\,697.7479 www.artangobistro.com
UID:e.1819.258
SEQUENCE:3
DTSTAMP:20260424T121037Z
URL:https://members.lakeviewroscoevillage.org/events/details/event-at-artango-south-american-bistro-04-20-2014-258
END:VEVENT

END:VCALENDAR
