BEGIN:VCALENDAR
VERSION:2.0
PRODID:-//ChamberMaster//Event Calendar 2.0//EN
METHOD:PUBLISH
X-PUBLISHED-TTL:P3D
REFRESH-INTERVAL:P3D
CALSCALE:GREGORIAN
BEGIN:VEVENT
DTSTART:20140412T150000Z
DTEND:20140413T220000Z
X-MICROSOFT-CDO-ALLDAYEVENT:FALSE
SUMMARY:Event at HALSTED FLATS
DESCRIPTION:Welcome to brand new Halsted Flats\, Lakeview's newest rental address.\n\n\n\nOpen house this weekend- We are waiving move in fees for all TWO BEDROOMS if you lease this weekend. \n\n\n\nCall us at 773 857 3740 to schedule a tour today!\n\n\n\nwww.halstedflats.com\n\nLike us on facebook at www.facebook.com/halstedflats
X-ALT-DESC;FMTTYPE=text/html:<strong>Welcome to brand new Halsted Flats\, Lakeview&#39\;s newest rental address.<br />\n<br />\n<span style="color:#ff0000\;">Open house this weekend- We are waiving move in fees for all TWO BEDROOMS if you lease this weekend. </span><br />\n<br />\nCall us at <a href="tel:773 857 3740">773 857 3740</a> to schedule a tour today!</strong><br />\n<br />\nwww.halstedflats.com<br />\nLike us on facebook at www.facebook.com/halstedflats
LOCATION:3740 N Halsted Chicago\, IL 60613
UID:e.1819.261
SEQUENCE:3
DTSTAMP:20260424T134633Z
URL:https://members.lakeviewroscoevillage.org/events/details/event-at-halsted-flats-04-12-2014-261
END:VEVENT

END:VCALENDAR
