BEGIN:VCALENDAR
VERSION:2.0
PRODID:-//ChamberMaster//Event Calendar 2.0//EN
METHOD:PUBLISH
X-PUBLISHED-TTL:P3D
REFRESH-INTERVAL:P3D
CALSCALE:GREGORIAN
BEGIN:VEVENT
DTSTART:20140121T233000Z
DTEND:20140122T010000Z
X-MICROSOFT-CDO-ALLDAYEVENT:FALSE
SUMMARY:Event at LIFESTYLE PHYSICAL THERAPY
DESCRIPTION:New Year Nutrition Seminar\n\n	Please join us for our "New Year" nutrition seminar\, featuring:\n\n	Dr. Sarah Weber\n\n	Chiropractor/Digestive Health Specialist\n\n	Of\n\n	Total Balance Chiropractic\n\n	This seminar will cover the following topics:\n\n	\n		How your brain and body work together to communicate stress\n	\n		Symptoms caused by physical\, nutritional\, and emotional stress\n	\n		How Physical Therapy and Chiropractic treatment can eliminate stress\n	\n		The role nutrition plays in healing\, and restoring health & balance to the body
X-ALT-DESC;FMTTYPE=text/html:<h1 id="evm-event-title" style="text-align: center\;">\n	<span class="cc-var" title="">New Year Nutrition Seminar</span></h1>\n<p align="center">\n	Please join us for our &ldquo\;New Year&rdquo\; nutrition seminar\, featuring:</p>\n<p align="center">\n	<b>Dr. Sarah Weber</b></p>\n<p align="center">\n	<b>Chiropractor/Digestive Health Specialist</b></p>\n<p align="center">\n	<b>Of</b></p>\n<p align="center">\n	<b>Total Balance Chiropractic</b></p>\n<p>\n	This seminar will cover the following topics:</p>\n<ul>\n	<li>\n		How your brain and body work together to communicate stress</li>\n	<li>\n		Symptoms caused by physical\, nutritional\, and emotional stress</li>\n	<li>\n		How Physical Therapy and Chiropractic treatment can eliminate stress</li>\n	<li>\n		The role nutrition plays in healing\, and restoring health &amp\; balance to the body</li>\n</ul>\n
LOCATION:LifeStyle Physical Therapy & Balance Center 3130 N Lincoln Ave Chicago\, IL 60657
UID:e.1819.172
SEQUENCE:3
DTSTAMP:20260424T172729Z
URL:https://members.lakeviewroscoevillage.org/events/details/event-at-lifestyle-physical-therapy-01-21-2014-172
END:VEVENT

END:VCALENDAR
