BEGIN:VCALENDAR
VERSION:2.0
PRODID:-//ChamberMaster//Event Calendar 2.0//EN
METHOD:PUBLISH
X-PUBLISHED-TTL:P3D
REFRESH-INTERVAL:P3D
CALSCALE:GREGORIAN
BEGIN:VEVENT
DTSTART:20140823T180000Z
DTEND:20140824T030000Z
X-MICROSOFT-CDO-ALLDAYEVENT:FALSE
SUMMARY:Everyone Gets Lei's
DESCRIPTION:Are you ready to get LEI'd for the 3rd Year in a Row??? Well we can help you! Everyone Gets Lei's is Festa's laid-back\, sun-splashed\, end-of-summer extravaganza where you get all the Lei's you can in the great bars of Wicker Park around the 1800-2100 West Division & Damen Area. \n\n\n\nYou'll get a t-shirt\, drink specials\, prizes if you get all the different colored lei's\, and get to play with our GIANT BEACH BALL!  Hawaiian / Luau attire is highly encouraged!\n\n \n\nThe event will begin at 1pm on Saturday\, August 23\, 2014 at Fatpour Tapworks\, one of our Favorite Spots\, at the corner of Division and Damen\, 2005 W Division\, and include other great bars such as FIfty/50\, InnJoy\, Shambles\, Boundary\, Easy Bar\, Divison Ale House\, Happy Village\, Moonshine. and more!\n\n \n\nCheck our Facebook Page for Valuable Coupons to get a Discount on Your Ticket!!!  And\, if you plan to go to TBOX2014 on 12/13/14\, Festa's 19th Annual Twelve Bars of Xmas\, then see how you can get FREE Everyone Gets Lei's Tickets if you buy your TBOX Ticket NOW!\n\n \n\n- See more at: http://www.festaparties.com/buytickets/lei-crawl-2014/#sthash.7fO2t9my.dpuf
X-ALT-DESC;FMTTYPE=text/html:Are you ready to get LEI&#39\;d for the 3rd Year in a Row??? Well we can help you! Everyone Gets Lei&#39\;s is Festa&#39\;s laid-back\, sun-splashed\, end-of-summer extravaganza where you get all the Lei&#39\;s you can in the great bars of Wicker Park around the 1800-2100 West Division &amp\; Damen Area.&nbsp\;<br />\n<br />\nYou&#39\;ll get a t-shirt\, drink specials\, prizes if you get all the different colored lei&#39\;s\, and get to play with our GIANT BEACH BALL!&nbsp\; Hawaiian / Luau attire is highly encouraged!<br />\n&nbsp\;<br />\nThe event will begin at 1pm on Saturday\, August 23\, 2014 at Fatpour Tapworks\, one of our Favorite Spots\, at the corner of Division and Damen\, 2005 W Division\, and include other great bars such as FIfty/50\, InnJoy\, Shambles\, Boundary\, Easy Bar\, Divison Ale House\, Happy Village\, Moonshine. and more!<br />\n&nbsp\;<br />\nCheck our Facebook Page for Valuable Coupons to get a Discount on Your Ticket!!!&nbsp\; And\, if you plan to go to TBOX2014 on 12/13/14\, Festa&#39\;s 19th Annual Twelve Bars of Xmas\, then see how you can get FREE Everyone Gets Lei&#39\;s Tickets if you buy your TBOX Ticket NOW!<br />\n&nbsp\;<br />\n- See more at: <a href="http://www.festaparties.com/buytickets/lei-crawl-2014/#sthash.7fO2t9my.dpuf">http://www.festaparties.com/buytickets/lei-crawl-2014/#sthash.7fO2t9my.dpuf</a>
LOCATION:Event starts at 1pm at 2005 W. Division St
UID:e.1819.322
SEQUENCE:3
DTSTAMP:20260424T025337Z
URL:https://members.lakeviewroscoevillage.org/events/details/everyone-gets-lei-s-08-23-2014-322
END:VEVENT

END:VCALENDAR
