BEGIN:VCALENDAR
VERSION:2.0
PRODID:-//ChamberMaster//Event Calendar 2.0//EN
METHOD:PUBLISH
X-PUBLISHED-TTL:P3D
REFRESH-INTERVAL:P3D
CALSCALE:GREGORIAN
BEGIN:VEVENT
DTSTART;VALUE=DATE:20170603
DTEND;VALUE=DATE:20170604
TRANSP:TRANSPARENT
X-MICROSOFT-CDO-ALLDAYEVENT:TRUE
SUMMARY:Evolve Fitness Grand Re-Opening/Ribbon Cutting Ceremony
DESCRIPTION:New Owners\, Meg & Craig Payne\, invite you to celebrate their Grand Re-Opening & Client Appreciation event at Evolve Fitness Chicago!  \n \n\nPlease join us for an Open House on the afternoon of Saturday\, June 3rd. There will be several fun filled activities planned throughout the day!
X-ALT-DESC;FMTTYPE=text/html:<span style="font-family: Verdana\; font-size: 13.3333px\; background-color: rgb(255\, 255\, 255)\;">New Owners\, Meg &amp\; Craig&nbsp\;Payne\, invite you to celebrate their Grand Re-Opening &amp\; Client Appreciation event at&nbsp\;Evolve Fitness Chicago! &nbsp\;</span>\n<div>&nbsp\;</div>\n\n<div><span style="font-family: Verdana\; font-size: 13.3333px\; background-color: rgb(255\, 255\, 255)\;">Please join us for an Open House on the afternoon of Saturday\, June 3rd.</span><span style="font-family: Verdana\; font-size: 13.3333px\; background-color: rgb(255\, 255\, 255)\;">&nbsp\;There will be several fun filled activities planned throughout the day!&nbsp\;</span></div>\n
LOCATION:Evolve Fitness 1704 W Belmont Ave Chicago\, IL 60657
UID:e.1819.5181
SEQUENCE:3
DTSTAMP:20260419T182127Z
URL:https://members.lakeviewroscoevillage.org/events/details/evolve-fitness-grand-re-opening-ribbon-cutting-ceremony-06-03-2017-5181
END:VEVENT

END:VCALENDAR
