BEGIN:VCALENDAR
VERSION:2.0
PRODID:-//ChamberMaster//Event Calendar 2.0//EN
METHOD:PUBLISH
X-PUBLISHED-TTL:P3D
REFRESH-INTERVAL:P3D
CALSCALE:GREGORIAN
BEGIN:VEVENT
DTSTART:20171021T160000Z
DTEND:20171021T220000Z
X-MICROSOFT-CDO-ALLDAYEVENT:FALSE
SUMMARY:Eye Spy Optical Turns 19!
DESCRIPTION:Eye Spy Optical's 19th Birthday Party is here and we want to celebrate YOU! Join us for an afternoon of fun! Decorate a cupcake\, sip a glass of wine and enjoy a 19% discount on lenses and select eye wear! We'd love to see you ?
X-ALT-DESC;FMTTYPE=text/html:Eye Spy Optical&#39\;s 19th Birthday Party is here and we want to celebrate YOU! Join us for an afternoon of fun! Decorate a cupcake\, sip a glass of wine and enjoy a 19% discount on lenses and select eye wear! We&#39\;d love to see you ?
LOCATION:Eye Spy Optical 3350 N Lincoln Ave Chicago\, IL 60626
UID:e.1819.11168
SEQUENCE:3
DTSTAMP:20260419T161239Z
URL:https://members.lakeviewroscoevillage.org/events/details/eye-spy-optical-turns-19-10-21-2017-11168
END:VEVENT

END:VCALENDAR
