BEGIN:VCALENDAR
VERSION:2.0
PRODID:-//ChamberMaster//Event Calendar 2.0//EN
METHOD:PUBLISH
X-PUBLISHED-TTL:P3D
REFRESH-INTERVAL:P3D
CALSCALE:GREGORIAN
BEGIN:VEVENT
DTSTART:20160926T233000Z
DTEND:20160927T003000Z
X-MICROSOFT-CDO-ALLDAYEVENT:FALSE
SUMMARY:Fad Diets\, Meal Replacements and Supplements for Weight Loss
DESCRIPTION:Do Paleo\, Low-Carb\, Gluten-Free and Detox Diet claims have you wondering which actually works for weight loss? How about meal replacements and weight loss supplements? Wonder no more! At this event\, Cassandra\, Olivera Weight Management's Registered\, Licensed Dietitian with advanced training in weight management\, will guide you through the litany of fad diets\, meal replacements and supplements and help you understand the benefits\, drawbacks and effectiveness of each. \n\nEnjoy healthy hors d'oeuvres and beverages prepared by Cassandra. For those interested\, product samples will also be available free of charge.\n\nHave other questions? Cassandra will be available for 20 minutes following the event to answer any additional questions or concerns from any of the attendees.
X-ALT-DESC;FMTTYPE=text/html:<span style="background-color:rgb(255\, 255\, 255)\; color:rgb(75\, 79\, 86)\; font-family:helvetica\,arial\,sans-serif\; font-size:14px">Do Paleo\, Low-Carb\, Gluten-Free and Detox Diet claims have you wondering which actually works for weight loss? How about meal replacements and weight loss supplements? Wonder no more! At this event\, Cassandra\, Olivera Weight Management&#39\;s Registered\, Licensed Dietitian with advanced training in weight management\, will guide you through the litany of fad diets\, meal replacements and supplements and help you understand the benefits\, drawbacks and effectiveness of each.&nbsp\;</span><br />\n<span style="background-color:rgb(255\, 255\, 255)\; color:rgb(75\, 79\, 86)\; font-family:helvetica\,arial\,sans-serif\; font-size:14px">Enjoy healthy hors d&#39\;oeuvres and beverages prepared by Cassandra. For those interested\, product samples will also be available free of charge.</span><br />\n<span style="background-color:rgb(255\, 255\, 255)\; color:rgb(75\, 79\, 86)\; font-family:helvetica\,arial\,sans-serif\; font-size:14px">Have other questions? Cassandra will be available for 20 minutes following the event to answer any additional questions or concerns from any of the attendees.</span>
LOCATION:Olivera Weight Management Advocate Illinois Masonic Medical Building 3000 N. Halsted Street\, Suite 623 Chicago\, IL 60657 (773) 327-6624
UID:e.1819.3605
SEQUENCE:3
DTSTAMP:20260422T062618Z
URL:https://members.lakeviewroscoevillage.org/events/details/fad-diets-meal-replacements-and-supplements-for-weight-loss-09-26-2016-3605
END:VEVENT

END:VCALENDAR
