BEGIN:VCALENDAR
VERSION:2.0
PRODID:-//ChamberMaster//Event Calendar 2.0//EN
METHOD:PUBLISH
X-PUBLISHED-TTL:P3D
REFRESH-INTERVAL:P3D
CALSCALE:GREGORIAN
BEGIN:VEVENT
DTSTART:20150625T000000Z
DTEND:20150625T013000Z
X-MICROSOFT-CDO-ALLDAYEVENT:FALSE
SUMMARY:Family Biking Education Series: Biking With Independent Riders
DESCRIPTION:Active Trans and Chicago Kidical Mass are partnering up to give parents the tools they need to teach their kids how to bike and how to ride safely. Participants will also get some stellar recommendations for fun ways to incorporate biking into your family. This event is free and open to the public. Well behaved children are welcome if childcare is a barrier.
X-ALT-DESC;FMTTYPE=text/html:Active Trans and Chicago Kidical Mass are partnering up to give parents the tools they need to teach their kids how to bike and how to ride safely. Participants will also get some stellar recommendations for fun ways to incorporate biking into your family. This event is free and open to the public. Well behaved children are welcome if childcare is a barrier.
LOCATION:Heritage Littles\, 2868 N Lincoln Ave Suite B\, Chicago\, Illinois 60657
UID:e.1819.1775
SEQUENCE:3
DTSTAMP:20260423T074257Z
URL:https://members.lakeviewroscoevillage.org/events/details/family-biking-education-series-biking-with-independent-riders-06-24-2015-1775
END:VEVENT

END:VCALENDAR
