BEGIN:VCALENDAR
VERSION:2.0
PRODID:-//ChamberMaster//Event Calendar 2.0//EN
METHOD:PUBLISH
X-PUBLISHED-TTL:P3D
REFRESH-INTERVAL:P3D
CALSCALE:GREGORIAN
BEGIN:VEVENT
DTSTART:20171220T220000Z
DTEND:20171220T233000Z
X-MICROSOFT-CDO-ALLDAYEVENT:FALSE
SUMMARY:FAMILY CHRISTMAS COOKIE PARTY
DESCRIPTION:CHRISTMAS COOKIE PARTIES MENU: Gingerbread Cookies & Hot Chocolate with Whipped Cream Ages 2yrs and up! Wednesday\, December 20\, 4:00-5:30pm (Lakeview)
X-ALT-DESC;FMTTYPE=text/html:CHRISTMAS COOKIE PARTIES MENU: Gingerbread Cookies &amp\; Hot Chocolate with Whipped Cream Ages 2yrs and up! Wednesday\, December 20\, 4:00-5:30pm (Lakeview)
LOCATION:2864 N. Lincoln Ave
UID:e.1819.11181
SEQUENCE:3
DTSTAMP:20260419T124837Z
URL:https://members.lakeviewroscoevillage.org/events/details/family-christmas-cookie-party-12-20-2017-11181
END:VEVENT

END:VCALENDAR
