BEGIN:VCALENDAR
VERSION:2.0
PRODID:-//ChamberMaster//Event Calendar 2.0//EN
METHOD:PUBLISH
X-PUBLISHED-TTL:P3D
REFRESH-INTERVAL:P3D
CALSCALE:GREGORIAN
BEGIN:VEVENT
DTSTART:20151129T000000Z
DTEND:20151129T013000Z
X-MICROSOFT-CDO-ALLDAYEVENT:FALSE
SUMMARY:Family Cooking Class
DESCRIPTION:Adults and kids get to work side-by-side to make a delicious meal\, and then enjoy it together! It?s the perfect combination of a fun activity\, hands-on cooking instruction\, a delicious dinner and recipes so you can recreate the dishes at home. For ages 2 & up. Grammas & Grampas welcome too!
X-ALT-DESC;FMTTYPE=text/html:Adults and kids get to work side-by-side to make a delicious meal\, and then enjoy it together! It?s the perfect combination of a fun activity\, hands-on cooking instruction\, a delicious dinner and recipes so you can recreate the dishes at home. For ages 2 &amp\; up. Grammas &amp\; Grampas welcome too!
LOCATION:The Kids' Table 2864 N Lincoln Ave
UID:e.1819.2248
SEQUENCE:3
DTSTAMP:20260422T223234Z
URL:https://members.lakeviewroscoevillage.org/events/details/family-cooking-class-11-28-2015-2248
END:VEVENT

END:VCALENDAR
