BEGIN:VCALENDAR
VERSION:2.0
PRODID:-//ChamberMaster//Event Calendar 2.0//EN
METHOD:PUBLISH
X-PUBLISHED-TTL:P3D
REFRESH-INTERVAL:P3D
CALSCALE:GREGORIAN
BEGIN:VEVENT
DTSTART:20160501T133000Z
DTEND:20160501T180000Z
X-MICROSOFT-CDO-ALLDAYEVENT:FALSE
SUMMARY:Family Fun Day
DESCRIPTION:Looking for a way to spend a spring day? Join us for an fun-filled\, family friendly 5K Fun Run and Walk. After the 5K the rest of the day will feature live entertainment\, bounce houses\, carnival games\, family activities\, prizes and food provided by some of Chicago's best food trucks. This event raises funds for Tuesday's Child which supports families and their children with behavioral challenges.
X-ALT-DESC;FMTTYPE=text/html:Looking for a way to spend a spring day? Join us for an fun-filled\, family friendly 5K Fun Run and Walk. After the 5K the rest of the day will feature live entertainment\, bounce houses\, carnival games\, family activities\, prizes and food provided by some of Chicago&#39\;s best food trucks. This event raises funds for Tuesday&#39\;s Child which supports families and their children with behavioral challenges.
LOCATION:DeVry University - 3300 North Campbell Avenue - South Lawn and Lobby. Parking available on the North Parking Lot
UID:e.1819.2840
SEQUENCE:3
DTSTAMP:20260422T114537Z
URL:https://members.lakeviewroscoevillage.org/events/details/family-fun-day-05-01-2016-2840
END:VEVENT

END:VCALENDAR
