BEGIN:VCALENDAR
VERSION:2.0
PRODID:-//ChamberMaster//Event Calendar 2.0//EN
METHOD:PUBLISH
X-PUBLISHED-TTL:P3D
REFRESH-INTERVAL:P3D
CALSCALE:GREGORIAN
BEGIN:VEVENT
DTSTART:20170604T133000Z
DTEND:20170604T180000Z
X-MICROSOFT-CDO-ALLDAYEVENT:FALSE
SUMMARY:Family Fun Day
DESCRIPTION:Looking for a way to spend a spring day? Join us for a fun-filled\, family friendly 5K Fun Run and Walk. After the 5K the rest of the day will feature live entertainment\, bounce houses\, carnival games\, family activities\, prizes and a runners breakfast and lunch. This event raises funds for Tuesday's Child which supports families and their children with behavioral challenges. When: June 4\, 2017 8:30 am - 1:00 pm Where: DeVry University\, 3300 North Campbell Avenue South Lawn and Lobby Parking in the North Parking Lot Cost: $40 for a family of 5 for the whole day\, including the 5K Fun Run and Walk (8:30 am   1:00 pm) $20 for a family of 5 for the carnival only (10:00 am   1:00 pm) Contact: Gary Koenig gkoenig@tuesdayschildchicago.org 773-423-5055
X-ALT-DESC;FMTTYPE=text/html:Looking for a way to spend a spring day? Join us for a fun-filled\, family friendly 5K Fun Run and Walk. After the 5K the rest of the day will feature live entertainment\, bounce houses\, carnival games\, family activities\, prizes and a runners breakfast and lunch. This event raises funds for Tuesday&#39\;s Child which supports families and their children with behavioral challenges. When: June 4\, 2017 8:30 am - 1:00 pm Where: DeVry University\, 3300 North Campbell Avenue South Lawn and Lobby Parking in the North Parking Lot Cost: $40 for a family of 5 for the whole day\, including the 5K Fun Run and Walk (8:30 am &ndash\; 1:00 pm) $20 for a family of 5 for the carnival only (10:00 am &ndash\; 1:00 pm) Contact: Gary Koenig gkoenig@tuesdayschildchicago.org 773-423-5055
LOCATION:DeVry University 3300 North Campbell Avenue Chicago 60618 South Lawn and Lobby
UID:e.1819.5018
SEQUENCE:3
DTSTAMP:20260419T181407Z
URL:https://members.lakeviewroscoevillage.org/events/details/family-fun-day-06-04-2017-5018
END:VEVENT

END:VCALENDAR
