BEGIN:VCALENDAR
VERSION:2.0
PRODID:-//ChamberMaster//Event Calendar 2.0//EN
METHOD:PUBLISH
X-PUBLISHED-TTL:P3D
REFRESH-INTERVAL:P3D
CALSCALE:GREGORIAN
BEGIN:VEVENT
DTSTART:20171219T193000Z
DTEND:20171219T210000Z
X-MICROSOFT-CDO-ALLDAYEVENT:FALSE
SUMMARY:FAMILY HANUKKAH COOKIE PARTIES
DESCRIPTION:HANUKKAH COOKIE PARTIES MENU: Hanukkah Sugar Cookies & Hot Chocolate with Whipped Cream Ages 2yrs and up! Tuesday\, December 19\, 1:30-3:00pm (Lakeview)
X-ALT-DESC;FMTTYPE=text/html:HANUKKAH COOKIE PARTIES MENU: Hanukkah Sugar Cookies &amp\; Hot Chocolate with Whipped Cream Ages 2yrs and up! Tuesday\, December 19\, 1:30-3:00pm (Lakeview)
LOCATION:2864 N. Lincoln Ave
UID:e.1819.11180
SEQUENCE:3
DTSTAMP:20260419T130605Z
URL:https://members.lakeviewroscoevillage.org/events/details/family-hanukkah-cookie-parties-12-19-2017-11180
END:VEVENT

END:VCALENDAR
