BEGIN:VCALENDAR
VERSION:2.0
PRODID:-//ChamberMaster//Event Calendar 2.0//EN
METHOD:PUBLISH
X-PUBLISHED-TTL:P3D
REFRESH-INTERVAL:P3D
CALSCALE:GREGORIAN
BEGIN:VEVENT
DTSTART:20161231T220000Z
DTEND:20170101T000000Z
X-MICROSOFT-CDO-ALLDAYEVENT:FALSE
SUMMARY:Family NYE Celebration
DESCRIPTION:A Spanish NYE event the whole family is sure to enjoy\, especially those that can't stay up until midnight! Join us for passed appetizers  and a glass of Cava (Spanish bubbly) for adults as we countdown the seconds of the Spanish New Year at 5:00. We will broadcast live from Spain and eat the traditional 12 grapes (1 at each stroke of midnight) for a prosperous 2017. The party starts at 4:00 and we will wrap things up at 6:00. Tickets are $30 for people over 21\, $25 for ages 9 - 20 and children 8 and under are free.
X-ALT-DESC;FMTTYPE=text/html:A Spanish NYE event the whole family is sure to enjoy\, especially those that can&#39\;t stay up until midnight! Join us for passed appetizers &nbsp\;and a glass of Cava (Spanish bubbly) for adults as we countdown the seconds of the Spanish New Year at 5:00. We will broadcast live from Spain and eat the traditional 12 grapes (1 at each stroke of midnight) for a prosperous 2017. The party starts at 4:00 and we will wrap things up at 6:00. Tickets are $30 for people over 21\, $25 for ages 9 - 20 and children 8 and under are free.
LOCATION:The Spanish Square 1358 W Belmont Ave Chicago IL 60657
UID:e.1819.4866
SEQUENCE:3
DTSTAMP:20260420T063340Z
URL:https://members.lakeviewroscoevillage.org/events/details/family-nye-celebration-12-31-2016-4866
END:VEVENT

END:VCALENDAR
