BEGIN:VCALENDAR
VERSION:2.0
PRODID:-//ChamberMaster//Event Calendar 2.0//EN
METHOD:PUBLISH
X-PUBLISHED-TTL:P3D
REFRESH-INTERVAL:P3D
CALSCALE:GREGORIAN
BEGIN:VEVENT
DTSTART:20160521T170000Z
DTEND:20160522T030000Z
X-MICROSOFT-CDO-ALLDAYEVENT:FALSE
SUMMARY:Festa Parties Cover Your Bases Baseball Pub Crawl
DESCRIPTION:Cover Your Bases 2016 will start at Noon on Saturday\, May 21st at Murphy's Bleachers in Wrigleyville!! Cover Your Bases\, or "CYB" as it is affectionately called\, has celebrated Chicago baseball in Wrigleyville since 2009. After our Winter Crawl Events TBOX and BeadQuest\, our party people look forward to warmer weather\, sunny skies\, and of course\, BASEBALL SEASON!  Purchase tickets at festaparties.com/CYB and use code SCORE to save!! \n\n\n\nEveryone who registers for CYB gets a Festa t-shirt with a stylized baseball diamond with circles for each position\, plus the National Anthem\, first pitch\, and 7th inning stretch. At each of the stops\, the Festa Team of Base Coaches hands out colored stickers to fill in your shirt and LITERALLY... Cover Your Bases! Cover them all\, and you qualify for one of our many great prizes and get your picture taken in our famous photo frames.\n\n\n\n#CYB2016 will feature more than 20 great Wrigleyville Bars\, and start and end at the legendary Murphy's Bleachers\, right behind Wrigley Field at Waveland & Sheffield. #CYB2016 and all Festa Events are sponsored by Bud Light\, and featured specials on BL plus Goose Island Craft Beer and other beverages. It's an amazing day of fun whether you're a baseball fanatic\, or just looking to have a great time with thousands of fun people.
X-ALT-DESC;FMTTYPE=text/html:<span style="font-family:helvetica neue\,helvetica\,arial\,sans-serif\; font-size:14px">Cover Your Bases 2016 will start at Noon on Saturday\, May 21st at Murphy&#39\;s Bleachers in Wrigleyville!! Cover Your Bases\, or &quot\;CYB&quot\; as it is affectionately called\, has celebrated Chicago baseball in Wrigleyville since 2009. After our Winter Crawl Events TBOX and BeadQuest\, our party people look forward to warmer weather\, sunny skies\, and of course\, BASEBALL SEASON! &nbsp\;Purchase tickets at&nbsp\;</span><a href="https://www.yelp.com/redir?url=http%3A%2F%2Fwww.festaparties.com%2FCYB&amp\;s=948d0722531135b8b63a3b2124d8e586cebabd8c15296a01b08e27ed9e7c8e7d" rel="nofollow" style="margin: 0px\; padding: 0px\; border: 0px\; font-family: 'Helvetica Neue'\, Helvetica\, Arial\, sans-serif\; font-size: 14px\; line-height: inherit\; vertical-align: baseline\; color: rgb(59\, 101\, 167)\; text-decoration: none\;" target="_blank">festaparties.com/CYB</a><span style="font-family:helvetica neue\,helvetica\,arial\,sans-serif\; font-size:14px">&nbsp\;and use code SCORE to save!!&nbsp\;</span><br />\n<br />\n<span style="font-family:helvetica neue\,helvetica\,arial\,sans-serif\; font-size:14px">Everyone who registers for CYB gets a Festa t-shirt with a stylized baseball diamond with circles for each position\, plus the National Anthem\, first pitch\, and 7th inning stretch. At each of the stops\, the Festa Team of Base Coaches hands out colored stickers to fill in your shirt and LITERALLY... Cover Your Bases! Cover them all\, and you qualify for one of our many great prizes and get your picture taken in our famous photo frames.</span><br />\n<br />\n<span style="font-family:helvetica neue\,helvetica\,arial\,sans-serif\; font-size:14px">#CYB2016 will feature more than 20 great Wrigleyville Bars\, and start and end at the legendary Murphy&#39\;s Bleachers\, right behind Wrigley Field at Waveland &amp\; Sheffield. #CYB2016 and all Festa Events are sponsored by Bud Light\, and featured specials on BL plus Goose Island Craft Beer and other beverages. It&#39\;s an amazing day of fun whether you&#39\;re a baseball fanatic\, or just looking to have a great time with thousands of fun people.</span>
LOCATION:Murphy's Bleachers
UID:e.1819.2865
SEQUENCE:3
DTSTAMP:20260422T114928Z
URL:https://members.lakeviewroscoevillage.org/events/details/festa-parties-cover-your-bases-baseball-pub-crawl-05-21-2016-2865
END:VEVENT

END:VCALENDAR
