BEGIN:VCALENDAR
VERSION:2.0
PRODID:-//ChamberMaster//Event Calendar 2.0//EN
METHOD:PUBLISH
X-PUBLISHED-TTL:P3D
REFRESH-INTERVAL:P3D
CALSCALE:GREGORIAN
BEGIN:VEVENT
DTSTART:20160924T000000Z
DTEND:20160924T020000Z
X-MICROSOFT-CDO-ALLDAYEVENT:FALSE
SUMMARY:Film Screening: The Year We Thought About Love
DESCRIPTION:Thousand Waves Martial Arts & Self-Defense Center is hosting a free film screening and discussion of the award-winning film by Ellen Brodsky.   The Year We Thought About Love goes behind the scenes of the oldest queer youth theater in America.  In a twist on the common image of LGBTQ youth as victims\, the film reveals the troupe members as artists and activists\, celebrating the fullness of their lives in both thoughtful and hilarious ways. \n\n \n\nThe screening is free and open to the public.  Registration is requested at thousandwaves.org/film
X-ALT-DESC;FMTTYPE=text/html:Thousand Waves Martial Arts &amp\; Self-Defense Center is hosting a free film screening and discussion of the award-winning film by Ellen Brodsky.&nbsp\; &nbsp\;<strong>The Year We Thought About Love</strong> goes behind the scenes of the oldest queer youth theater in America.&nbsp\; In a twist on the common image of LGBTQ youth as victims\, the film reveals the troupe members as artists and activists\, celebrating the fullness of their lives in both thoughtful and hilarious ways.&nbsp\;<br />\n&nbsp\;<br />\nThe screening is free and open to the public.&nbsp\; Registration is requested at thousandwaves.org/film&nbsp\;&nbsp\;
LOCATION:Thousand Waves Martial Arts & Self Defense Center\, NFP 1220 W Belmont
UID:e.1819.3584
SEQUENCE:3
DTSTAMP:20260422T062544Z
URL:https://members.lakeviewroscoevillage.org/events/details/film-screening-the-year-we-thought-about-love-09-23-2016-3584
END:VEVENT

END:VCALENDAR
