BEGIN:VCALENDAR
VERSION:2.0
PRODID:-//ChamberMaster//Event Calendar 2.0//EN
METHOD:PUBLISH
X-PUBLISHED-TTL:P3D
REFRESH-INTERVAL:P3D
CALSCALE:GREGORIAN
BEGIN:VEVENT
DTSTART:20130906T220000Z
DTEND:20130907T010000Z
X-MICROSOFT-CDO-ALLDAYEVENT:FALSE
SUMMARY:First Friday's on Southport
DESCRIPTION:First Friday's on Southport celebrates shopping! Grab a friend and enjoy refreshments while partaking in special offers\, trunk shows\, free demos and more at more than 25+ participating Southport shops.\n\n\n\nAfter you shop\, visit a participating bar or restaurant for more specials!
X-ALT-DESC;FMTTYPE=text/html:First Friday&#39\;s on Southport celebrates shopping! Grab a friend and enjoy refreshments while partaking in special offers\, trunk shows\, free demos and more at&nbsp\;more than 25+ participating&nbsp\;Southport shops.<br />\n<br />\nAfter you shop\, visit a participating bar or restaurant for more specials! 
LOCATION:Southport Avenue from 3400N-4000N.
UID:e.1819.52
SEQUENCE:3
DTSTAMP:20260425T003935Z
URL:https://members.lakeviewroscoevillage.org/events/details/first-friday-s-on-southport-09-06-2013-52
END:VEVENT

END:VCALENDAR
