BEGIN:VCALENDAR
VERSION:2.0
PRODID:-//ChamberMaster//Event Calendar 2.0//EN
METHOD:PUBLISH
X-PUBLISHED-TTL:P3D
REFRESH-INTERVAL:P3D
CALSCALE:GREGORIAN
BEGIN:VEVENT
DTSTART:20131004T220000Z
DTEND:20131005T010000Z
X-MICROSOFT-CDO-ALLDAYEVENT:FALSE
SUMMARY:First Friday's on Southport
DESCRIPTION:First Friday's on Southport celebrates shopping! Grab a friend and enjoy refreshments while partaking in special offers\, trunk shows\, free demos and more at more than 30+ participating Southport businesses.\n\n\n\nA Little Bit of This: Great monogramming gift ideas\n\nBabydolls Boutique: Specials and refreshments\n\nCerato: Specials and refreshments\n\nClick Shoes & More: 15% off one item \n\nDog-a-holics: Specials and refreshments\n\nFrancesca's: Specials and refreshments\n\nFree People: Specials and refreshments\n\nKatie B's: 15% off purchases $50+\n\nKrista K: Specials and refreshments\n\nIndira: Complimentary braid bar from 5-8\n\nJulius Meinl: Free samples of hot apple cider and 10% off their entire purchase\n\nMassage Envy: Introductory massage- $49\, Facial $59\n\nM2 and M4: surprise hourly discounts\n\nMint Julep: 25% off all denim\n\nMystic Celt: Buy One\, Get One Free for all appetizers from 5-8pm. Just mention 1st Fridays Southport.  \n\nNail Bar: Complimentary paraffin treatment with a manicure or pedicure\n\nNewport Bar & Grill: 1/2 Price Apps (5pm-8pm) $4 Craft Drafts $5 Skyy & Bacardi Bombs\n\nPersona: Specials and refreshments\n\nPotbelly: Live Music 5-8pm \n\nSecond Time Around: Come check out our new store\n\nSchoolyard Tavern: BOGO all street food items\n\nShe One: 20% off regular merchandise\n\nSnippets: Check out new hair accessories and products\n\nStella Blue Design: Specials and refreshments\n\nSouthport Grocery : Open for Supper\n\nStarbucks: complimentary food & drink samples + live music\n\nSuvarna Chiropractic:  Purchase an acupuncture session for $49 (regular price is $65)\n\nThat's Amore Florist: 10% off\, excluding wire orders\n\nUncle Dan's: 15% off any regularly priced items\n\nEuropean Wax Center: Free Eyebrow Wax OR 1/2 off select services\n\nWhite Birch: Specials and refreshments
X-ALT-DESC;FMTTYPE=text/html:First Friday&#39\;s on Southport celebrates shopping! Grab a friend and enjoy refreshments while partaking in special offers\, trunk shows\, free demos and more at&nbsp\;more than 30+ participating&nbsp\;Southport businesses.<br />\n<br />\n<span style="font-size: 10pt\;"><span style="font-family: calibri\,sans-serif\;"><a href="http://www.facebook.com/alittlebitofthis"><span style="color: rgb(0\, 0\, 255)\;">A Little Bit of This</span></a></span>: Great monogramming gift ideas</span><br />\n<span style="font-size: 10pt\;"><span style="font-family: calibri\,sans-serif\;"><a href="http://www.facebook.com/BabyDollsBoutiqueChicago"><span style="font-size: 10pt\;"><span style="font-family: calibri\,sans-serif\;"><a href="http://www.facebook.com/BabyDollsBoutiqueChicago"><span style="color: rgb(0\, 0\, 255)\;">Babydolls</span></a></span></span></a></span></span><span style="color: rgb(0\, 0\, 255)\;"> Boutique</span>: Specials and refreshments<br />\n<span style="font-size: 10pt\;"><span style="font-family: calibri\,sans-serif\;"><a href="http://www.facebook.com/ceratoboutique"><span style="font-size: 10pt\;"><span style="font-family: calibri\,sans-serif\;"><a href="http://www.facebook.com/ceratoboutique"><span style="color: rgb(0\, 0\, 255)\;">Cerato</span></a></span></span></a></span></span>: Specials and refreshments<br />\n<span style="font-size: 10pt\;"><span style="font-family: calibri\,sans-serif\;"><a href="http://www.facebook.com/clickshoes"><span style="color: rgb(0\, 0\, 255)\;">Click Shoes &amp\; More</span></a></span>: </span><span style="font-size: 10pt\;"><span style="font-family: calibri\,sans-serif\;">15% off one item </span></span><br />\n<span style="font-size: 10pt\;"><span style="font-family: calibri\,sans-serif\;"><a href="http://www.facebook.com/dogaholics"><span style="font-size: 10pt\;"><span style="font-family: calibri\,sans-serif\;"><a href="http://www.facebook.com/dogaholics"><span style="color: rgb(0\, 0\, 255)\;">Dog-a-holics</span></a></span></span></a></span></span>: Specials and refreshments<br />\n<span style="font-size: 10pt\;"><span style="font-family: calibri\,sans-serif\;"><a href="http://www.facebook.com/francescascollectionsboutique"><span style="color: rgb(0\, 0\, 255)\;">Francesca&rsquo\;s</span></a></span>: Specials and refreshments</span><br />\n<span style="font-size: 10pt\;"><a href="http://www.facebook.com/FreePeople"><span style="font-family: calibri\;"><span style="color: rgb(0\, 0\, 255)\;">Free People</span></span></a></span><span style="font-family: calibri\;">: S</span><span style="font-family: calibri\;"><span style="font-size: 10pt\;">pecials and refreshments</span></span><br />\n<span style="font-size: 10pt\;"><span style="font-family: calibri\;">Katie B&rsquo\;s: 15% off purchases $50+</span></span><br />\n<span style="font-size: 10pt\;"><a href="http://www.facebook.com/KristaKBoutique"><span style="font-family: calibri\;"><span style="color: rgb(0\, 0\, 255)\;">Krista K</span></span></a></span><span style="font-family: calibri\;">: S</span><span style="font-family: calibri\;"><span style="font-size: 10pt\;">pecials and refreshments</span></span><br />\n<span style="font-size: 10pt\;"><a href="https://www.facebook.com/indirasalonspas"><span style="font-size: 10pt\;"><a href="https://www.facebook.com/indirasalonspas"><span style="font-family: calibri\;"><span style="color: rgb(0\, 0\, 255)\;">Indira</span></span></a></span></a></span><span style="font-family: calibri\;">: C</span><span style="font-size: 10pt\;"><span style="font-family: calibri\;">omplimentary braid bar from 5-8</span></span><br />\n<span style="font-size: 10pt\;"><a href="file:///C:/Users/STAFF/Desktop/Sarah%20Shared/Southport%20Merchant%20Mtgs%202013/Julius%20Meinl%20Coffee"><span style="font-family: calibri\;"><span style="color: rgb(0\, 0\, 255)\;">Julius Meinl</span></span></a></span><span style="font-family: calibri\;">: F<span style="font-size: 10pt\;">ree samples of hot apple cider and 10% off their entire purchase</span></span><br />\n<span style="font-size: 10pt\;"><a href="https://www.facebook.com/MassageEnvyLakeview"><span style="font-family: calibri\;"><span style="color: rgb(0\, 0\, 255)\;">Massage Envy:</span></span></a></span><span style="font-family: calibri\;"> Introductory massage- $49\, Facial $59</span><br />\n<span style="font-size: 10pt\;"><a href="http://www.facebook.com/mboutique.southport"><span style="font-size: 10pt\;"><a href="http://www.facebook.com/mboutique.southport"><span style="font-family: calibri\;"><span style="color: rgb(0\, 0\, 255)\;">M2</span></span></a></span></a></span><span style="font-family: calibri\;"><span style="color: rgb(0\, 0\, 255)\;"> and M4</span></span>: <span style="font-family: calibri\;"><span style="font-size: 10pt\;">surprise hourly discounts</span></span><br />\n<span style="font-size: 10pt\;"><span style="font-family: calibri\,sans-serif\;"><a href="https://www.facebook.com/MintJulepBoutique"><span style="color: rgb(0\, 0\, 255)\;">Mint Julep</span></a></span>: </span><span style="font-size: 10pt\;"><span style="font-family: calibri\,sans-serif\;">25% off all denim</span></span><br />\n<span style="font-size: 10pt\;"><span style="font-family: calibri\,sans-serif\;"><a href="https://www.facebook.com/MysticCeltChicago"><span style="color: rgb(0\, 0\, 255)\;">Mystic Celt</span></a></span>: </span><span style="font-size: 10pt\;"><span style="font-family: calibri\,sans-serif\;">Buy One\, Get One Free for all appetizers from 5-8pm.&nbsp\;Just&nbsp\;mention 1st Fridays Southport.&nbsp\; </span></span><br />\n<span style="font-size: 10pt\;"><span style="font-family: calibri\,sans-serif\;"><a href="https://www.facebook.com/NailBarSouthport"><span style="color: rgb(0\, 0\, 255)\;">Nail Bar</span></a></span>: C</span><span style="font-size: 10pt\;"><span style="font-family: calibri\,sans-serif\;">omplimentary paraffin treatment with a manicure or pedicure</span></span><br />\n<span style="font-size: 10pt\;"><span style="font-family: calibri\,sans-serif\;"><a href="https://www.facebook.com/pages/Newport-Bar-Grill/496205920297"><span style="color: rgb(0\, 0\, 255)\;">Newport Bar &amp\; Grill</span></a></span>: </span><span style="font-size: 10pt\;"><span style="font-family: calibri\,sans-serif\;">1/2 Price Apps&nbsp\;(5pm-8pm) $4 Craft Drafts $5 Skyy &amp\; Bacardi Bombs</span></span><br />\n<span style="font-size: 10pt\;"><span style="font-family: calibri\,sans-serif\;">Persona: Specials and refreshments</span></span><br />\n<span style="font-size: 10pt\;"><span style="font-family: calibri\,sans-serif\;">Potbelly: Live Music 5-8pm </span></span><br />\n<span style="font-size: 10pt\;"><span style="font-family: calibri\,sans-serif\;"><a href="https://www.facebook.com/pages/Second-Time-Around-Southport-Ave/472232749535003"><span style="color: rgb(0\, 0\, 255)\;">Second Time Around</span></a></span>: Come check out our new store</span><br />\n<span style="font-size: 10pt\;"><span style="font-family: calibri\,sans-serif\;"><a href="https://www.facebook.com/pages/Schoolyard-Tavern/111689678868904"><span style="color: rgb(0\, 0\, 255)\;">Schoolyard Tavern</span></a></span>: BOGO all street food items</span><br />\n<span style="font-size: 10pt\;"><span style="font-family: calibri\,sans-serif\;"><a href="https://www.facebook.com/pages/She-One/56901388057"><span style="color: rgb(0\, 0\, 255)\;">She One</span></a></span>: 20% off regular merchandise</span><br />\n<span style="font-size: 10pt\;"><span style="font-family: calibri\,sans-serif\;"><a href="https://www.facebook.com/pages/Snippets-Minicuts/163008460384279?rf=437830689630433"><span style="color: rgb(0\, 0\, 255)\;">Snippets</span></a></span>: Check out new hair accessories and products</span><br />\n<span style="font-size: 10pt\;"><span style="font-family: calibri\,sans-serif\;"><a href="https://www.facebook.com/StellaBlueDesign"><span style="color: rgb(0\, 0\, 255)\;">Stella Blue Design</span></a></span>: Specials and refreshments</span><br />\n<span style="font-size: 10pt\;"><span style="font-family: calibri\,sans-serif\;"><a href="https://www.facebook.com/Southport.Grocery.and.Cafe"><span style="color: rgb(0\, 0\, 255)\;">Southport Grocery</span></a></span> : Open for Supper</span><br />\n<span style="font-size: 10pt\;"><span style="font-family: calibri\,sans-serif\;">Starbucks: complimentary food &amp\; drink samples + live music</span></span><br />\n<span style="font-size: 10pt\;"><span style="font-family: calibri\,sans-serif\;"><a href="https://www.facebook.com/pages/Suvarna-Chiropractic/112091022158222"><span style="font-size: 10pt\;"><span style="font-family: calibri\,sans-serif\;"><a href="https://www.facebook.com/pages/Suvarna-Chiropractic/112091022158222"><span style="color: rgb(0\, 0\, 255)\;">Suvarna</span></a></span></span></a></span></span><span style="color: rgb(0\, 0\, 255)\;"> Chiropractic</span>:&nbsp\; Purchase an <span style="font-size: 10pt\;"><span style="font-family: calibri\,sans-serif\;">acupuncture session for $49 (regular price is $65)</span></span><br />\n<span style="font-size: 10pt\;"><a href="https://www.facebook.com/pages/Thats-Amore-Florist/104587729659019"><span style="font-family: calibri\;"><span style="color: rgb(0\, 0\, 255)\;">That&rsquo\;s Amore Florist</span></span></a></span><span style="font-family: calibri\;">: 10% off\, excluding wire orders</span><br />\n<span style="font-size: 10pt\;"><a href="https://www.facebook.com/UncleDans"><span style="font-family: calibri\;"><span style="color: rgb(0\, 0\, 255)\;">Uncle Dan&rsquo\;s</span></span></a></span><span style="font-family: calibri\;">: 15% off any regularly priced items</span><br />\n<span style="font-size: 10pt\;"><a href="https://www.facebook.com/EuropeanWax"><span style="font-family: calibri\;"><span style="color: rgb(0\, 0\, 255)\;">European Wax Center</span></span></a></span><span style="font-family: calibri\;">: Free Eyebrow Wax OR 1/2 off select services</span><br />\n<span style="font-size: 10pt\;"><span style="font-family: calibri\,sans-serif\;"><a href="https://www.facebook.com/pages/White-Birch-Trading-Co/210239922347487"><span style="color: rgb(0\, 0\, 255)\;">White Birch</span></a></span>: Specials and refreshments</span><br />\n<br />\n<br />\n
LOCATION:Southport Avenue from 3400N-4000N.
UID:e.1819.84
SEQUENCE:3
DTSTAMP:20260424T224257Z
URL:https://members.lakeviewroscoevillage.org/events/details/first-friday-s-on-southport-10-04-2013-84
END:VEVENT

END:VCALENDAR
