BEGIN:VCALENDAR
VERSION:2.0
PRODID:-//ChamberMaster//Event Calendar 2.0//EN
METHOD:PUBLISH
X-PUBLISHED-TTL:P3D
REFRESH-INTERVAL:P3D
CALSCALE:GREGORIAN
BEGIN:VEVENT
DTSTART:20131101T220000Z
DTEND:20131102T010000Z
X-MICROSOFT-CDO-ALLDAYEVENT:FALSE
SUMMARY:First Friday's on Southport
DESCRIPTION:First Friday's on Southport celebrates shopping! Grab a friend and enjoy refreshments while partaking in special offers\, trunk shows\, free demos and more at more than 25+ participating Southport shops.\n\n\n\nAfter you shop\, visit a participating bar or restaurant for more specials!\n\nA Little Bit of This:  \n\nBabydolls Boutique:  \n\nCerato:  \n\nClick Shoes & More:   \n\nCrosby's Kitchen:  \n\nDog-a-holics:  \n\nFrancesca's:  \n\nFree People:\n\nKatie B's:  \n\nKrista K:  \n\nIndira:  \n\nJulius Meinl:  \n\nMassage Envy:  \n\nM2 and M4:  \n\nMint Julep:  \n\nMystic Celt:   \n\nMusic Box Theatre:  \n\nNoodles & Co:   \n\nNail Bar:  \n\nNewport Bar & Grill:  \n\nPersona:  \n\nPotbelly:   \n\nSecond Time Around:  \n\nSchoolyard Tavern:  \n\nShe One:  \n\nSnippets:  \n\nStella Blue Design:  \n\nSouthport Grocery :  \n\nStarbucks:  \n\nSuvarna Chiropractic:  \n\nThat's Amore Florist:  \n\nUncle Dan's:  \n\nEuropean Wax Center:  \n\nWhite Birch:
X-ALT-DESC;FMTTYPE=text/html:First Friday&#39\;s on Southport celebrates shopping! Grab a friend and enjoy refreshments while partaking in special offers\, trunk shows\, free demos and more at&nbsp\;more than 25+ participating&nbsp\;Southport shops.<br />\n<br />\nAfter you shop\, visit a participating bar or restaurant for more specials!<br />\n<span style="font-size: 10pt\;"><span style="font-family: calibri\,sans-serif\;"><span style="font-size: 10pt\;"><span style="color: rgb(34\, 34\, 34)\;"><a href="http://www.facebook.com/alittlebitofthis"><span style="font-family: calibri\;"><span style="color: rgb(0\, 0\, 255)\;">A Little Bit of This</span></span></a></span></span>: &nbsp\;<br />\n<span style="font-size: 10pt\;"><span style="color: rgb(34\, 34\, 34)\;"><a href="http://www.facebook.com/BabyDollsBoutiqueChicago"><span style="font-size: 10pt\;"><span style="color: rgb(34\, 34\, 34)\;"><a href="http://www.facebook.com/BabyDollsBoutiqueChicago"><span style="font-family: calibri\;"><span style="color: rgb(0\, 0\, 255)\;">Babydolls</span></span></a></span></span></a></span></span></span></span><span style="font-size: 9pt\;"><span style="font-family: arial\,sans-serif\;"><span style="color: blue\;"> Boutique</span></span></span>: &nbsp\;<br />\n<span style="font-size: 10pt\;"><span style="color: rgb(34\, 34\, 34)\;"><a href="http://www.facebook.com/ceratoboutique"><span style="font-size: 10pt\;"><span style="color: rgb(34\, 34\, 34)\;"><a href="http://www.facebook.com/ceratoboutique"><span style="font-family: calibri\;"><span style="color: rgb(0\, 0\, 255)\;">Cerato</span></span></a></span></span></a></span></span>: &nbsp\;<br />\n<span style="font-size: 10pt\;"><span style="color: rgb(34\, 34\, 34)\;"><a href="http://www.facebook.com/clickshoes"><span style="font-family: calibri\;"><span style="color: rgb(0\, 0\, 255)\;">Click Shoes &amp\; More</span></span></a></span></span>: &nbsp\;&nbsp\;<br />\n<span style="font-size: 10pt\;"><span style="font-family: arial\,sans-serif\;"><a href="http://www.crosbyschicago.com/"><span style="color: rgb(0\, 0\, 255)\;">Crosby&rsquo\;s Kitchen</span></a></span>: &nbsp\;</span><br />\n<span style="font-size: 10pt\;"><span style="color: rgb(34\, 34\, 34)\;"><a href="http://www.facebook.com/dogaholics"><span style="font-size: 10pt\;"><span style="color: rgb(34\, 34\, 34)\;"><a href="http://www.facebook.com/dogaholics"><span style="font-family: calibri\;"><span style="color: rgb(0\, 0\, 255)\;">Dog-a-holics</span></span></a></span></span></a></span></span>: &nbsp\;<br />\n<span style="font-size: 10pt\;"><span style="color: rgb(34\, 34\, 34)\;"><a href="http://www.facebook.com/francescascollectionsboutique"><span style="font-family: calibri\;"><span style="color: rgb(0\, 0\, 255)\;">Francesca&rsquo\;s</span></span></a></span></span>: &nbsp\;<br />\n<span style="font-size: 10pt\;"><span style="font-family: arial\,sans-serif\;"><span style="color: rgb(34\, 34\, 34)\;"><a href="http://www.facebook.com/FreePeople"><span style="font-family: calibri\,sans-serif\;"><span style="color: rgb(0\, 0\, 255)\;">Free People</span></span></a></span></span></span>:<br />\n<span style="font-size: 10pt\;"><span style="color: rgb(34\, 34\, 34)\;"><span style="font-family: calibri\;">Katie B&rsquo\;s: &nbsp\;</span></span></span><br />\n<span style="font-size: 10pt\;"><span style="font-family: arial\,sans-serif\;"><span style="color: rgb(34\, 34\, 34)\;"><a href="http://www.facebook.com/KristaKBoutique"><span style="font-family: calibri\,sans-serif\;"><span style="color: rgb(0\, 0\, 255)\;">Krista K</span></span></a></span></span></span>: &nbsp\;<br />\n<span style="font-size: 10pt\;"><span style="font-family: arial\,sans-serif\;"><span style="color: rgb(34\, 34\, 34)\;"><a href="https://www.facebook.com/indirasalonspas"><span style="font-size: 10pt\;"><span style="font-family: arial\,sans-serif\;"><span style="color: rgb(34\, 34\, 34)\;"><a href="https://www.facebook.com/indirasalonspas"><span style="font-family: calibri\,sans-serif\;"><span style="color: rgb(0\, 0\, 255)\;">Indira</span></span></a></span></span></span></a></span></span></span>: &nbsp\;<br />\n<span style="font-size: 10pt\;"><span style="font-family: arial\,sans-serif\;"><span style="color: rgb(34\, 34\, 34)\;"><a href="file:///C:/Users/STAFF/Desktop/Sarah%20Shared/Southport%20Merchant%20Mtgs%202013/Julius%20Meinl%20Coffee"><span style="color: rgb(0\, 0\, 255)\;"><span style="font-family: calibri\,sans-serif\;">Julius </span></span><span style="font-family: calibri\,sans-serif\;"><span style="color: blue\;">Meinl</span></span></a></span></span></span>: &nbsp\;<br />\n<span style="font-size: 10pt\;"><span style="font-family: arial\,sans-serif\;"><span style="color: rgb(34\, 34\, 34)\;"><a href="https://www.facebook.com/MassageEnvyLakeview"><span style="font-family: calibri\,sans-serif\;"><span style="color: rgb(0\, 0\, 255)\;">Massage Envy:</span></span></a></span></span></span> &nbsp\;<br />\n<span style="font-size: 10pt\;"><span style="font-family: arial\,sans-serif\;"><span style="color: rgb(34\, 34\, 34)\;"><a href="http://www.facebook.com/mboutique.southport"><span style="font-size: 10pt\;"><span style="font-family: arial\,sans-serif\;"><span style="color: rgb(34\, 34\, 34)\;"><a href="http://www.facebook.com/mboutique.southport"><span style="font-family: calibri\,sans-serif\;"><span style="color: rgb(0\, 0\, 255)\;">M2</span></span></a></span></span></span></a></span></span></span><span style="font-size: 9pt\;"><span style="color: blue\;"><span style="font-family: calibri\;"> and M4</span></span></span>: &nbsp\;<br />\n<span style="font-size: 10pt\;"><span style="color: rgb(34\, 34\, 34)\;"><a href="https://www.facebook.com/MintJulepBoutique"><span style="font-family: calibri\;"><span style="color: rgb(0\, 0\, 255)\;">Mint Julep</span></span></a></span></span>: &nbsp\;<br />\n<span style="font-size: 10pt\;"><span style="color: rgb(34\, 34\, 34)\;"><a href="https://www.facebook.com/MysticCeltChicago"><span style="font-family: calibri\;"><span style="color: rgb(0\, 0\, 255)\;">Mystic Celt</span></span></a></span></span>: &nbsp\;&nbsp\;<br />\n<span style="font-size: 10pt\;"><span style="font-family: arial\,sans-serif\;"><span style="color: rgb(34\, 34\, 34)\;"><a href="http://www.musicboxtheatre.com/"><span style="color: rgb(0\, 0\, 255)\;">Music Box Theatre</span></a></span>: &nbsp\;</span></span><br />\n<span style="font-size: 10pt\;"><span style="font-family: arial\,sans-serif\;"><span style="color: rgb(34\, 34\, 34)\;"><a href="http://www.noodles.com/"><span style="color: rgb(0\, 0\, 255)\;">Noodles &amp\; Co</span></a></span>: &nbsp\;&nbsp\;</span></span><br />\n<span style="font-size: 10pt\;"><span style="color: rgb(34\, 34\, 34)\;"><a href="https://www.facebook.com/NailBarSouthport"><span style="font-family: calibri\;"><span style="color: rgb(0\, 0\, 255)\;">Nail Bar</span></span></a></span></span>: &nbsp\;<br />\n<span style="font-size: 10pt\;"><span style="color: rgb(34\, 34\, 34)\;"><a href="https://www.facebook.com/pages/Newport-Bar-Grill/496205920297"><span style="font-family: calibri\;"><span style="color: rgb(0\, 0\, 255)\;">Newport Bar &amp\; Grill</span></span></a></span></span>: &nbsp\;<br />\n<span style="font-size: 10pt\;"><span style="color: rgb(34\, 34\, 34)\;"><span style="font-family: calibri\;">Persona: &nbsp\;</span></span></span><br />\n<span style="font-size: 10pt\;"><span style="color: rgb(34\, 34\, 34)\;"><span style="font-family: calibri\;">Potbelly: &nbsp\;&nbsp\;</span></span></span><br />\n<span style="font-size: 10pt\;"><span style="color: rgb(34\, 34\, 34)\;"><a href="https://www.facebook.com/pages/Second-Time-Around-Southport-Ave/472232749535003"><span style="font-family: calibri\;"><span style="color: rgb(0\, 0\, 255)\;">Second Time Around</span></span></a></span></span>: &nbsp\;<br />\n<span style="font-size: 10pt\;"><span style="color: rgb(34\, 34\, 34)\;"><a href="https://www.facebook.com/pages/Schoolyard-Tavern/111689678868904"><span style="font-family: calibri\;"><span style="color: rgb(0\, 0\, 255)\;">Schoolyard Tavern</span></span></a></span></span>: &nbsp\;<br />\n<span style="font-size: 10pt\;"><span style="color: rgb(34\, 34\, 34)\;"><a href="https://www.facebook.com/pages/She-One/56901388057"><span style="font-family: calibri\;"><span style="color: rgb(0\, 0\, 255)\;">She One</span></span></a></span></span>: &nbsp\;<br />\n<span style="font-size: 10pt\;"><span style="color: rgb(34\, 34\, 34)\;"><a href="https://www.facebook.com/pages/Snippets-Minicuts/163008460384279?rf=437830689630433"><span style="font-family: calibri\;"><span style="color: rgb(0\, 0\, 255)\;">Snippets</span></span></a></span></span>: &nbsp\;<br />\n<span style="font-size: 10pt\;"><span style="color: rgb(34\, 34\, 34)\;"><a href="https://www.facebook.com/StellaBlueDesign"><span style="font-family: calibri\;"><span style="color: rgb(0\, 0\, 255)\;">Stella Blue Design</span></span></a></span></span>: &nbsp\;<br />\n<span style="font-size: 10pt\;"><span style="color: rgb(34\, 34\, 34)\;"><a href="https://www.facebook.com/Southport.Grocery.and.Cafe"><span style="font-family: calibri\;"><span style="color: rgb(0\, 0\, 255)\;">Southport Grocery</span></span></a></span></span> : &nbsp\;<br />\n<span style="font-size: 10pt\;"><span style="color: rgb(34\, 34\, 34)\;"><span style="font-family: calibri\;">Starbucks: &nbsp\;</span></span></span><br />\n<span style="font-size: 10pt\;"><span style="color: rgb(34\, 34\, 34)\;"><a href="https://www.facebook.com/pages/Suvarna-Chiropractic/112091022158222"><span style="font-size: 10pt\;"><span style="color: rgb(34\, 34\, 34)\;"><a href="https://www.facebook.com/pages/Suvarna-Chiropractic/112091022158222"><span style="font-family: calibri\;"><span style="color: rgb(0\, 0\, 255)\;">Suvarna</span></span></a></span></span></a></span></span><span style="font-size: 9pt\;"><span style="font-family: arial\,sans-serif\;"><span style="color: blue\;"> Chiropractic</span></span></span><span style="font-size: 9pt\;"><span style="font-family: arial\,sans-serif\;"><span style="color: rgb(34\, 34\, 34)\;">:&nbsp\; </span></span></span><br />\n<span style="font-size: 10pt\;"><span style="font-family: arial\,sans-serif\;"><span style="color: rgb(34\, 34\, 34)\;"><a href="https://www.facebook.com/pages/Thats-Amore-Florist/104587729659019"><span style="font-family: calibri\,sans-serif\;"><span style="color: rgb(0\, 0\, 255)\;">That&rsquo\;s Amore Florist</span></span></a></span></span></span>: &nbsp\;<br />\n<span style="font-size: 10pt\;"><span style="font-family: arial\,sans-serif\;"><span style="color: rgb(34\, 34\, 34)\;"><a href="https://www.facebook.com/UncleDans"><span style="font-family: calibri\,sans-serif\;"><span style="color: rgb(0\, 0\, 255)\;">Uncle Dan&rsquo\;s</span></span></a></span></span></span>: &nbsp\;<br />\n<span style="font-size: 10pt\;"><span style="font-family: arial\,sans-serif\;"><span style="color: rgb(34\, 34\, 34)\;"><a href="https://www.facebook.com/EuropeanWax"><span style="font-family: calibri\,sans-serif\;"><span style="color: rgb(0\, 0\, 255)\;">European Wax Center</span></span></a></span></span></span>: &nbsp\;<br />\n<span style="font-size: 10pt\;"><span style="color: rgb(34\, 34\, 34)\;"><a href="https://www.facebook.com/pages/White-Birch-Trading-Co/210239922347487"><span style="font-family: calibri\;"><span style="color: rgb(0\, 0\, 255)\;">White Birch</span></span></a></span></span>:&nbsp\;&nbsp\;<br />\n<br />\n<br />\n
LOCATION:Southport Avenue from 3400N-4000N.
UID:e.1819.85
SEQUENCE:3
DTSTAMP:20260424T205457Z
URL:https://members.lakeviewroscoevillage.org/events/details/first-friday-s-on-southport-11-01-2013-85
END:VEVENT

END:VCALENDAR
