BEGIN:VCALENDAR
VERSION:2.0
PRODID:-//ChamberMaster//Event Calendar 2.0//EN
METHOD:PUBLISH
X-PUBLISHED-TTL:P3D
REFRESH-INTERVAL:P3D
CALSCALE:GREGORIAN
BEGIN:VEVENT
DTSTART:20130802T220000Z
DTEND:20130803T010000Z
X-MICROSOFT-CDO-ALLDAYEVENT:FALSE
SUMMARY:First Fridays on Southport
DESCRIPTION:Visit your local merchants on Southport Ave for discounts\, samples & refreshers.
X-ALT-DESC;FMTTYPE=text/html:Visit your local merchants on Southport Ave for discounts\, samples &amp\; refreshers.
LOCATION:Southport Ave from 3400-4000
UID:e.1819.16
SEQUENCE:3
DTSTAMP:20260425T023311Z
URL:https://members.lakeviewroscoevillage.org/events/details/first-fridays-on-southport-08-02-2013-16
END:VEVENT

END:VCALENDAR
