BEGIN:VCALENDAR
VERSION:2.0
PRODID:-//ChamberMaster//Event Calendar 2.0//EN
METHOD:PUBLISH
X-PUBLISHED-TTL:P3D
REFRESH-INTERVAL:P3D
CALSCALE:GREGORIAN
BEGIN:VEVENT
DTSTART:20170128T160000Z
DTEND:20170128T181500Z
X-MICROSOFT-CDO-ALLDAYEVENT:FALSE
SUMMARY:Fitness and Program Fair
DESCRIPTION:This January\, you have an important choice to make. You can either waste your time hibernating at home\, or you can grab winter by the reins by embarking on new adventures. If you'd like to meet new friends\, learn new skills\, enjoy new activities and get to know your community\, join us at the Lake View YMCA for our 100% free\, family-friendly Fitness & Program Fair on Saturday\, January 28\, 2017 from 10 a.m. to 12:15 p.m. Open to members\, non-members and the community!\n\nAt our Fitness & Program Fair\, you'll be able to learn more about the Lake View Y's programs for adults and children! Activities include:\n\n\n	Body composition measurements\n	Wellness Consultation sign up\n	Vendors\n	Information table\n	Special group fitness classes\n	\n		10-10:30 a.m.   TRX with Manda\n		10:35 11:05 a.m.   Full body conditioning with Manda\n		11:10 11:40 a.m.   Zumba with Maria\n		11:45 a.m.-12:15 p.m.   Body pump with Sandy\n	\n	\n\n\nPlus\, if you become a member between now and January 31\, we'll completely waive your joiner fee\, you'll get instant access to registration for Spring programs and you'll save up to 50% off on programs. Already a member? Refer a friend between now and January 31\, and we'll waive their joiner fee and give you a free month of membership.
X-ALT-DESC;FMTTYPE=text/html:<p>This January\, you have an important choice to make. You can either waste your time hibernating at home\, or you can grab winter by the reins by embarking on new adventures. If you&rsquo\;d like to meet new friends\, learn new skills\, enjoy new activities and get to know your community\, join us at the Lake View YMCA for our&nbsp\;<strong>100% free</strong>\, family-friendly&nbsp\;<strong>Fitness &amp\; Program Fair</strong>&nbsp\;on&nbsp\;<strong>Saturday\, January 28\, 2017</strong>&nbsp\;from&nbsp\;<strong>10 a.m. to 12:15 p.m.</strong>&nbsp\;Open to members\, non-members and the community!</p>\n\n<p>At our Fitness &amp\; Program Fair\, you&#39\;ll be able to learn more about the Lake View Y&rsquo\;s programs for adults and children! Activities include:</p>\n\n<ul>\n	<li>Body composition measurements</li>\n	<li>Wellness Consultation sign up</li>\n	<li>Vendors</li>\n	<li>Information table</li>\n	<li>Special group fitness classes\n	<ul>\n		<li>10-10:30 a.m.&nbsp\;&ndash\; TRX with Manda</li>\n		<li>10:35&ndash\;11:05 a.m.&nbsp\;&ndash\; Full body conditioning with Manda</li>\n		<li>11:10&ndash\;11:40 a.m.&nbsp\;&ndash\; Zumba with Maria</li>\n		<li>11:45 a.m.-12:15 p.m. &ndash\; Body pump with Sandy</li>\n	</ul>\n	</li>\n</ul>\n\n<p>Plus\, if you&nbsp\;<a href="http://www.ymcachicago.org/pages/join" style="color: rgb(244\, 121\, 32)\; text-decoration: none\; font-weight: bold\; font-stretch: normal\; line-height: 16px\;" target="_blank">become a member</a>&nbsp\;between now and January 31\, we&rsquo\;ll&nbsp\;<strong>completely waive your joiner fee</strong>\, you&rsquo\;ll get instant access to registration for Spring programs and you&rsquo\;ll save up to 50% off on programs. Already a member? Refer a friend between now and January 31\, and we&rsquo\;ll waive their joiner fee and give you a&nbsp\;<strong>free month of membership</strong>.</p>\n
LOCATION:Lake View YMCA 3333 N. Marshfield Ave.\, Chicago\, IL 60657
UID:e.1819.4920
SEQUENCE:3
DTSTAMP:20260420T030249Z
URL:https://members.lakeviewroscoevillage.org/events/details/fitness-and-program-fair-01-28-2017-4920
END:VEVENT

END:VCALENDAR
