BEGIN:VCALENDAR
VERSION:2.0
PRODID:-//ChamberMaster//Event Calendar 2.0//EN
METHOD:PUBLISH
X-PUBLISHED-TTL:P3D
REFRESH-INTERVAL:P3D
CALSCALE:GREGORIAN
BEGIN:VEVENT
DTSTART:20170521T183000Z
DTEND:20170521T203000Z
X-MICROSOFT-CDO-ALLDAYEVENT:FALSE
SUMMARY:Five Fingers of Self-Defense Workshop
DESCRIPTION:This single session 2-hour workshop provides an overview of mental\, verbal\, and physical self-defense techniques designed to help participants defend themselves from threats and move through the world with less fear and more confidence. We use the Five Fingers of Self-Defense to teach people how to accurately assess their risk and respond to violence before it escalates\, while also teaching physical techniques to defend against direct assault. Our goal is to reduce both the prevalence and the harm of violence. Great for those new to the city\, or anyone who wants to feel safer\, stronger\, and more respected in their everyday lives\, and to know they can respond to emergency situations if they arise. Open to women and girls\, ages 15+\nTranswomen and genderqueer female-identified people welcome
X-ALT-DESC;FMTTYPE=text/html:<p><span style="color:rgb(0\, 0\, 0)\; font-family:calibri\; font-size:11pt">This single session 2-hour workshop provides an overview of mental\, verbal\, and physical self-defense techniques designed to help participants defend themselves from threats and move through the world with less fear and more confidence. We use the Five Fingers of Self-Defense to teach people how to accurately assess their risk and respond to violence before it escalates\, while also teaching physical techniques to defend against direct assault. Our goal is to reduce both the prevalence and the harm of violence. Great for those new to the city\, or anyone who wants to feel safer\, stronger\, and more respected in their everyday lives\, and to know they can respond to emergency situations if they arise. Open to women and girls\, ages 15+</span></p>\n<em>Transwomen and genderqueer female-identified people welcome</em>
LOCATION:Thousand Waves Martial Arts & Self Defense Center\, NFP 1220 W Belmont Chicago\, IL 60657 (773) 472-7663
UID:e.1819.5017
SEQUENCE:3
DTSTAMP:20260419T203014Z
URL:https://members.lakeviewroscoevillage.org/events/details/five-fingers-of-self-defense-workshop-05-21-2017-5017
END:VEVENT

END:VCALENDAR
