BEGIN:VCALENDAR
VERSION:2.0
PRODID:-//ChamberMaster//Event Calendar 2.0//EN
METHOD:PUBLISH
X-PUBLISHED-TTL:P3D
REFRESH-INTERVAL:P3D
CALSCALE:GREGORIAN
BEGIN:VEVENT
DTSTART:20160910T183000Z
DTEND:20160910T200000Z
X-MICROSOFT-CDO-ALLDAYEVENT:FALSE
SUMMARY:Five Fingers of Self-Defense Workshop for Kids
DESCRIPTION:This low-cost 90 minute workshop provides an overview of mental\, verbal\, and physical self-defense techniques designed to help kids defend themselves from threats and move through the world with less fear and more confidence.    We use the Five Fingers of Self-Defense to teach kids how to stay safe and get help in both emergency and everyday situations\, and how to protect both their bodies and their self-esteem from victimization by bullies or unsafe adults.  Our goal is to reduce both the prevalence and the harm of violence.  Great for back-to-school\, especially for kids who are changing schools or otherwise  encountering new situations\, or kids who are shy or have trouble speaking up for themselves.  Open to kids of all genders ages 8-11.
X-ALT-DESC;FMTTYPE=text/html:This low-cost 90 minute workshop provides an overview of mental\, verbal\, and physical self-defense techniques designed to help kids defend themselves from threats and move through the world with less fear and more confidence.&nbsp\;&nbsp\;&nbsp\; We use the Five Fingers of Self-Defense to teach kids how to stay safe and get help in both emergency and everyday situations\, and how to protect both their bodies and their self-esteem from victimization by bullies or unsafe adults.&nbsp\; Our goal is to reduce both the prevalence and the harm of violence.&nbsp\; Great for back-to-school\, especially for kids who are changing schools or otherwise &nbsp\;encountering new situations\, or kids who are shy or have trouble speaking up for themselves.&nbsp\; Open to kids of all genders ages 8-11.
LOCATION:Thousand Waves Martial Arts & Self Defense Center\, NFP 1220 W Belmont Chicago\, IL 60657
UID:e.1819.3583
SEQUENCE:3
DTSTAMP:20260422T062545Z
URL:https://members.lakeviewroscoevillage.org/events/details/five-fingers-of-self-defense-workshop-for-kids-09-10-2016-3583
END:VEVENT

END:VCALENDAR
