BEGIN:VCALENDAR
VERSION:2.0
PRODID:-//ChamberMaster//Event Calendar 2.0//EN
METHOD:PUBLISH
X-PUBLISHED-TTL:P3D
REFRESH-INTERVAL:P3D
CALSCALE:GREGORIAN
BEGIN:VEVENT
DTSTART:20160820T183000Z
DTEND:20160820T200000Z
X-MICROSOFT-CDO-ALLDAYEVENT:FALSE
SUMMARY:Five Fingers of Self-Defense Workshop for Teens
DESCRIPTION:This low-cost 90 minute workshop provides an overview of mental\, verbal\, and physical self-defense techniques designed to help participants defend themselves from threats and move through the world with less fear and more confidence.    We use the Five Fingers of Self-Defense to teach people how to accurately assess their risk and respond to violence before it escalates\, while also teaching physical techniques to defend against direct assault.  Our goal is to reduce both the prevalence and the harm of violence.  Great for teens who are starting to explore the city with greater independence\, or any teenager who wants to feel safer\, stronger\, and more respected in their everyday lives\, and to know they can respond to emergency situations if they arise.   Open to teens of all genders\, ages 12-16
X-ALT-DESC;FMTTYPE=text/html:This low-cost 90 minute workshop provides an overview of mental\, verbal\, and physical self-defense techniques designed to help participants defend themselves from threats and move through the world with less fear and more confidence.&nbsp\;&nbsp\;&nbsp\; We use the Five Fingers of Self-Defense to teach people how to accurately assess their risk and respond to violence before it escalates\, while also teaching physical techniques to defend against direct assault.&nbsp\; Our goal is to reduce both the prevalence and the harm of violence.&nbsp\; Great for teens who are starting to explore the city with greater independence\, or any teenager who wants to feel safer\, stronger\, and more respected in their everyday lives\, and to know they can respond to emergency situations if they arise.&nbsp\; &nbsp\;Open to teens of all genders\, ages 12-16
LOCATION:Thousand Waves Martial Arts & Self-Defense Center\, NFP 1220 W. Belmont Ave Chicago\, IL 60657
UID:e.1819.3301
SEQUENCE:3
DTSTAMP:20260422T081033Z
URL:https://members.lakeviewroscoevillage.org/events/details/five-fingers-of-self-defense-workshop-for-teens-08-20-2016-3301
END:VEVENT

END:VCALENDAR
