BEGIN:VCALENDAR
VERSION:2.0
PRODID:-//ChamberMaster//Event Calendar 2.0//EN
METHOD:PUBLISH
X-PUBLISHED-TTL:P3D
REFRESH-INTERVAL:P3D
CALSCALE:GREGORIAN
BEGIN:VEVENT
DTSTART:20160122T000000Z
DTEND:20160122T020000Z
X-MICROSOFT-CDO-ALLDAYEVENT:FALSE
SUMMARY:Flamenco Guitar at The Spanish Square
DESCRIPTION:Martin Metzger is a versatile guitarist and composer from Evanston\, Illinois. Martin has performed with many ensembles\, including Leley (Flamenco)\, Ensemble of Ragas (Indian/Flamenco)\, and Wood To Water (World Influenced-Jazz)\, which recorded their debut album in 2006. Martin currently performs with a flamenco group based in Chicago\, with guitarist Diego Alonso\, singer Patricia Ortega\, dancer Marisela Tapia\, and percussionist Javier Saume. In addition\, he performs solo flamenco guitar concerts. Along with earning a Bachelor's of Music in Jazz Studies from DePaul University (1994)\, Martin travels to Granada\, Spain every year to deepen his study of flamenco.
X-ALT-DESC;FMTTYPE=text/html:Martin Metzger is a versatile guitarist and composer from Evanston\, Illinois. Martin has performed with many ensembles\, including Leley (Flamenco)\, Ensemble of Ragas (Indian/Flamenco)\, and Wood To Water (World Influenced-Jazz)\, which recorded their debut album in 2006. Martin currently performs with a flamenco group based in Chicago\, with guitarist Diego Alonso\, singer Patricia Ortega\, dancer Marisela Tapia\, and percussionist Javier Saume. In addition\, he performs solo flamenco guitar concerts. Along with earning a Bachelor&rsquo\;s of Music in Jazz Studies from DePaul University (1994)\, Martin travels to Granada\, Spain every year to deepen his study of flamenco.
LOCATION:The Spanish Square\, 1358 W. Belmont Ave.
UID:e.1819.2687
SEQUENCE:3
DTSTAMP:20260422T190343Z
URL:https://members.lakeviewroscoevillage.org/events/details/flamenco-guitar-at-the-spanish-square-01-21-2016-2687
END:VEVENT

END:VCALENDAR
