BEGIN:VCALENDAR
VERSION:2.0
PRODID:-//ChamberMaster//Event Calendar 2.0//EN
METHOD:PUBLISH
X-PUBLISHED-TTL:P3D
REFRESH-INTERVAL:P3D
CALSCALE:GREGORIAN
BEGIN:VEVENT
DTSTART:20150930T220000Z
DTEND:20151001T010000Z
X-MICROSOFT-CDO-ALLDAYEVENT:FALSE
SUMMARY:Flawless Fall Skin
DESCRIPTION:The Well\, (formerly Integrative Body Science) a practice focused on internal and external wellness\, will host "Flawless Fall Skin\," to introduce and celebrate its new name and expansion of services.\n\n\n\nGuests can enjoy free wine and hors d'oeuvres while being treated to complimentary skin analysis plus exfoliating\, anti- aging peels\, masks and eye and lip exfoliating treatments all from The Well. Complimentary lash extensions and polish changes will be provided from East Bank Club Salon and Evolution Salon will offer hair stylings such as up-dos and braids. Attendees also will receive free products from  minence Organic Skin Care\, a natural and organic skin line. There also will be chances to win free services\, including skin care consultations and treatments such as micro-needling\, laser therapy and oxygen facials at the Well's MedSpa. Plus\, local businesses will be providing door prizes.\n\n\n\nThe Well also will be offering pink hair extensions in exchange for a suggested five dollar donation to support October Breast Cancer Awareness Month.\n\n\n\nThe Well\, a wellness center located in Chicago\, is founded and headed by Dr. Ashley Frer\, a licensed chiropractic and acupuncture physician and one of the leading holistic health care practitioners in Chicago. Dr. Frer specializes in using techniques from both western and eastern medicine and believes in providing the highest level of holistic medical care by bringing people's internal and musculoskeletal health to the highest level possible.
X-ALT-DESC;FMTTYPE=text/html:The Well\, (formerly Integrative Body Science) a practice focused on internal and external wellness\, will host &quot\;Flawless Fall Skin\,&quot\; to introduce and celebrate its new name and expansion of services.<br />\n<br />\nGuests can enjoy free wine and hors d&#39\;oeuvres while being treated to complimentary skin analysis plus exfoliating\, anti- aging peels\, masks and eye and lip exfoliating treatments all from The Well. Complimentary lash extensions and polish changes will be provided from East Bank Club Salon and Evolution Salon will offer hair stylings such as up-dos and braids. Attendees also will receive free products from &Eacute\;minence Organic Skin Care\, a natural and organic skin line. There also will be chances to win free services\, including skin care consultations and treatments such as micro-needling\, laser therapy and oxygen facials at the Well&#39\;s MedSpa. Plus\, local businesses will be providing door prizes.<br />\n<br />\nThe Well also will be offering pink hair extensions in exchange for a suggested five dollar donation to support October Breast Cancer Awareness Month.<br />\n<br />\nThe Well\, a wellness center located in Chicago\, is founded and headed by Dr. Ashley Frer\, a licensed chiropractic and acupuncture physician and one of the leading holistic health care practitioners in Chicago. Dr. Frer specializes in using techniques from both western and eastern medicine and believes in providing the highest level of holistic medical care by bringing people&#39\;s internal and musculoskeletal health to the highest level possible.
LOCATION:The Well 3221 N. Sheffield C-1S
UID:e.1819.1808
SEQUENCE:3
DTSTAMP:20260423T020524Z
URL:https://members.lakeviewroscoevillage.org/events/details/flawless-fall-skin-09-30-2015-1808
END:VEVENT

END:VCALENDAR
