BEGIN:VCALENDAR
VERSION:2.0
PRODID:-//ChamberMaster//Event Calendar 2.0//EN
METHOD:PUBLISH
X-PUBLISHED-TTL:P3D
REFRESH-INTERVAL:P3D
CALSCALE:GREGORIAN
BEGIN:VEVENT
DTSTART:20140520T000000Z
DTEND:20140520T030000Z
X-MICROSOFT-CDO-ALLDAYEVENT:FALSE
SUMMARY:Fornello & Breckenidge Distillery Dinner
DESCRIPTION:Join us at Fornello Trattoria for a Spirited Evening Featuring a 4 Course Dinner with Cocktail Pairings highlighting Breckenridge Distillery.\n\n\n\n$50 person includes food and pairings\, plus a cocktail hour.
X-ALT-DESC;FMTTYPE=text/html:Join us at Fornello Trattoria&nbsp\;for a Spirited Evening Featuring a 4 Course Dinner with Cocktail Pairings highlighting Breckenridge Distillery.<br />\n<br />\n$50 person includes food and pairings\, plus a cocktail hour.&nbsp\;<br />\n&nbsp\;
LOCATION:1101 W. Irving Park Road Chicago\, IL 60613
UID:e.1819.280
SEQUENCE:3
DTSTAMP:20260424T094956Z
URL:https://members.lakeviewroscoevillage.org/events/details/fornello-breckenidge-distillery-dinner-05-19-2014-280
END:VEVENT

END:VCALENDAR
