BEGIN:VCALENDAR
VERSION:2.0
PRODID:-//ChamberMaster//Event Calendar 2.0//EN
METHOD:PUBLISH
X-PUBLISHED-TTL:P3D
REFRESH-INTERVAL:P3D
CALSCALE:GREGORIAN
BEGIN:VEVENT
DTSTART:20141126T000000Z
DTEND:20141126T020000Z
X-MICROSOFT-CDO-ALLDAYEVENT:FALSE
SUMMARY:Fornello's Holiday Wine Tasting
DESCRIPTION:Try and purchase amazing Italian and American wines from three distributors and over 25 labels\, sure to delight your family and friends right before the Holidays!\n\n \n\nWe will be serving light hors'd'oeurves made to match the selections and will be having full dinner service that evening.
X-ALT-DESC;FMTTYPE=text/html:<div align="center" style="color: rgb(153\, 69\, 13)\; font-family: Arial\, Helvetica\, sans-serif\; line-height: normal\; text-align: center\; font-size: 14pt\; background-color: rgb(15\, 2\, 1)\;"><b>Try and purchase amazing Italian and American&nbsp\;wines from&nbsp\;three distributors and over 25 labels\, sure to delight your family and friends right before the Holidays!</b></div>\n\n<div align="center" style="color: rgb(153\, 69\, 13)\; font-family: Arial\, Helvetica\, sans-serif\; line-height: normal\; text-align: center\; font-size: 14pt\; background-color: rgb(15\, 2\, 1)\;"><strong>&nbsp\;</strong></div>\n\n<div align="center" style="color: rgb(153\, 69\, 13)\; font-family: Arial\, Helvetica\, sans-serif\; line-height: normal\; text-align: center\; font-size: 14pt\; background-color: rgb(15\, 2\, 1)\;"><strong>We will be serving light hors&#39\;d&#39\;oeurves made to match the selections and will be having full dinner service that evening.</strong></div>\n
LOCATION:1011 W Irving Park Rd
UID:e.1819.724
SEQUENCE:3
DTSTAMP:20260423T224948Z
URL:https://members.lakeviewroscoevillage.org/events/details/fornello-s-holiday-wine-tasting-11-25-2014-724
END:VEVENT

END:VCALENDAR
