BEGIN:VCALENDAR
VERSION:2.0
PRODID:-//ChamberMaster//Event Calendar 2.0//EN
METHOD:PUBLISH
X-PUBLISHED-TTL:P3D
REFRESH-INTERVAL:P3D
CALSCALE:GREGORIAN
BEGIN:VEVENT
DTSTART:20151030T170000Z
DTEND:20151030T170000Z
X-MICROSOFT-CDO-ALLDAYEVENT:FALSE
SUMMARY:Freaky Friday Family Cooking Class
DESCRIPTION:Adults and kids get to work side-by-side to make a delicious meal\, and then enjoy it together! It?s the perfect combination of a fun activity\, hands-on cooking instruction\, a delicious dinner and recipes so you can recreate the dishes at home. For ages 2 & up. Grammas & Grampas welcome too! HALLOWEEN COSTUMES ENCOURAGED! MENU: Pumpkin Quesadillas\, Chips with Broccoli Guacamole & Devil's Food Cupcakes
X-ALT-DESC;FMTTYPE=text/html:Adults and kids get to work side-by-side to make a delicious meal\, and then enjoy it together! It?s the perfect combination of a fun activity\, hands-on cooking instruction\, a delicious dinner and recipes so you can recreate the dishes at home. For ages 2 &amp\; up. Grammas &amp\; Grampas welcome too! HALLOWEEN COSTUMES ENCOURAGED! MENU: Pumpkin Quesadillas\, Chips with Broccoli Guacamole &amp\; Devil&#39\;s Food Cupcakes
LOCATION:The Kids' Table 2864 N. Lincoln Ave. Chicago\, IL
UID:e.1819.2030
SEQUENCE:3
DTSTAMP:20260423T002739Z
URL:https://members.lakeviewroscoevillage.org/events/details/freaky-friday-family-cooking-class-10-30-2015-2030
END:VEVENT

END:VCALENDAR
