BEGIN:VCALENDAR
VERSION:2.0
PRODID:-//ChamberMaster//Event Calendar 2.0//EN
METHOD:PUBLISH
X-PUBLISHED-TTL:P3D
REFRESH-INTERVAL:P3D
CALSCALE:GREGORIAN
BEGIN:VEVENT
DTSTART:20161214T003000Z
DTEND:20161214T023000Z
X-MICROSOFT-CDO-ALLDAYEVENT:FALSE
SUMMARY:Free Rioja Wine Tasting
DESCRIPTION:Join us in the Bodega with Max Wolod from Heritage for a special evening of sipping Rioja wines. With the purchase of any Rioja bottle you will receive a Rioja gift bag.  On this night only\, enjoy  your retail bottle of Rioja when you stay for dinner at no extra charge. We will be raffling off Rioja gifts and a custom maple box gift set with Riedel glasses and a bottle of Rioja. Guests must be present to claim prize. This is a free event.
X-ALT-DESC;FMTTYPE=text/html:<span style="color:rgb(10\, 10\, 10)\; font-family:pt sans\,arial\,helvetica\,sans-serif">Join us in the Bodega with Max Wolod from Heritage for a special evening of sipping Rioja wines. With the purchase of any Rioja bottle you will receive a Rioja gift bag. &nbsp\;On this night only\, enjoy &nbsp\;your retail bottle of Rioja when you stay for dinner at no extra charge. We will be raffling off Rioja gifts and a custom maple box gift set with Riedel glasses and a bottle of Rioja. Guests must be present to claim prize. This is a free event.</span>
LOCATION:The Spanish Square 1358 W Belmont Ave Chicago IL 60657
UID:e.1819.4864
SEQUENCE:3
DTSTAMP:20260420T045713Z
URL:https://members.lakeviewroscoevillage.org/events/details/free-rioja-wine-tasting-12-13-2016-4864
END:VEVENT

END:VCALENDAR
