BEGIN:VCALENDAR
VERSION:2.0
PRODID:-//ChamberMaster//Event Calendar 2.0//EN
METHOD:PUBLISH
X-PUBLISHED-TTL:P3D
REFRESH-INTERVAL:P3D
CALSCALE:GREGORIAN
BEGIN:VEVENT
DTSTART:20150723T230000Z
DTEND:20150724T010000Z
X-MICROSOFT-CDO-ALLDAYEVENT:FALSE
SUMMARY:Free Small Business Cost Savings Workshop
DESCRIPTION:Come join us on July 23rd at 6:00pm to find out ways in which small businesses can save money on operating expenses.  Covering a variety of industries\, experts will deliver quick presentations with valuable information and actionable steps that business owners or managers can use immediately to improve their businesses and cut costs. \n\n\n\nTopics include:\n\nWorker's Compensation Claim Review\n\nParcel Shipping/Receiving\n\nElectronic Payment Processing\n\nWaste and Recycling Contracts\n\nHiring and Employee Screening\n\nGroup Purchasing Discounts\n\n\n\nLight snacks and assortment of beer and wine will be provided.
X-ALT-DESC;FMTTYPE=text/html:<span style="font-size: small\; color: rgb(34\, 34\, 34)\; font-family: arial\, sans-serif\; line-height: normal\;">Come join us on July&nbsp\;23rd&nbsp\;at 6:00pm&nbsp\;to find out ways in which small businesses can save money on operating expenses. &nbsp\;Covering a variety of industries\, experts will deliver quick presentations with valuable information and actionable steps that business owners or managers can use immediately to improve their businesses and cut costs.</span><span style="font-size: small\; color: rgb(34\, 34\, 34)\; font-family: arial\, sans-serif\; line-height: normal\;">&nbsp\;</span><br style="font-size: small\; color: rgb(34\, 34\, 34)\; font-family: arial\, sans-serif\; line-height: normal\;" />\n<br style="font-size: small\; color: rgb(34\, 34\, 34)\; font-family: arial\, sans-serif\; line-height: normal\;" />\n<strong style="line-height: 20.7999992370605px\;"><span style="color: rgb(34\, 34\, 34)\; font-family: arial\, sans-serif\; font-size: small\; line-height: normal\;">Topics include:</span></strong><br style="font-size: small\; color: rgb(34\, 34\, 34)\; font-family: arial\, sans-serif\; line-height: normal\;" />\n<span style="font-size: small\; color: rgb(34\, 34\, 34)\; font-family: arial\, sans-serif\; line-height: normal\;">Worker&rsquo\;s Compensation Claim Review</span><br style="font-size: small\; color: rgb(34\, 34\, 34)\; font-family: arial\, sans-serif\; line-height: normal\;" />\n<span style="font-size: small\; color: rgb(34\, 34\, 34)\; font-family: arial\, sans-serif\; line-height: normal\;">Parcel Shipping/Receiving</span><br style="font-size: small\; color: rgb(34\, 34\, 34)\; font-family: arial\, sans-serif\; line-height: normal\;" />\n<span style="font-size: small\; color: rgb(34\, 34\, 34)\; font-family: arial\, sans-serif\; line-height: normal\;">Electronic Payment Processing</span><br style="font-size: small\; color: rgb(34\, 34\, 34)\; font-family: arial\, sans-serif\; line-height: normal\;" />\n<span style="font-size: small\; color: rgb(34\, 34\, 34)\; font-family: arial\, sans-serif\; line-height: normal\;">Waste and Recycling Contracts</span><br style="font-size: small\; color: rgb(34\, 34\, 34)\; font-family: arial\, sans-serif\; line-height: normal\;" />\n<span style="font-size: small\; color: rgb(34\, 34\, 34)\; font-family: arial\, sans-serif\; line-height: normal\;">Hiring and Employee Screening</span><br style="font-size: small\; color: rgb(34\, 34\, 34)\; font-family: arial\, sans-serif\; line-height: normal\;" />\n<span style="font-size: small\; color: rgb(34\, 34\, 34)\; font-family: arial\, sans-serif\; line-height: normal\;">Group Purchasing Discounts</span><br style="font-size: small\; color: rgb(34\, 34\, 34)\; font-family: arial\, sans-serif\; line-height: normal\;" />\n<br style="font-size: small\; color: rgb(34\, 34\, 34)\; font-family: arial\, sans-serif\; line-height: normal\;" />\n<span style="font-size: small\; color: rgb(34\, 34\, 34)\; font-family: arial\, sans-serif\; line-height: normal\;">Light snacks and assortment of beer and wine will be provided.</span><br style="font-size: small\; color: rgb(34\, 34\, 34)\; font-family: arial\, sans-serif\; line-height: normal\;" />\n<br style="font-size: small\; color: rgb(34\, 34\, 34)\; font-family: arial\, sans-serif\; line-height: normal\;" />\n<br style="font-size: small\; color: rgb(34\, 34\, 34)\; font-family: arial\, sans-serif\; line-height: normal\;" />\n&nbsp\;
LOCATION:The Shift - 4101 N. Broadway St. Chicago\, IL 60613
UID:e.1819.1779
SEQUENCE:3
DTSTAMP:20260423T074002Z
URL:https://members.lakeviewroscoevillage.org/events/details/free-small-business-cost-savings-workshop-07-23-2015-1779
END:VEVENT

END:VCALENDAR
