BEGIN:VCALENDAR
VERSION:2.0
PRODID:-//ChamberMaster//Event Calendar 2.0//EN
METHOD:PUBLISH
X-PUBLISHED-TTL:P3D
REFRESH-INTERVAL:P3D
CALSCALE:GREGORIAN
BEGIN:VEVENT
DTSTART:20160120T233000Z
DTEND:20160121T010000Z
X-MICROSOFT-CDO-ALLDAYEVENT:FALSE
SUMMARY:Free Wine Tasting at The Spanish Square
DESCRIPTION:Come join us at The Spanish Square for a sampling wines from some of the best wine regions of Spain!
X-ALT-DESC;FMTTYPE=text/html:Come join us at The Spanish Square for a sampling wines from some of the best wine regions of Spain!
LOCATION:The Spanish Square\, 1358 W. Belmont Ave.
UID:e.1819.2686
SEQUENCE:3
DTSTAMP:20260422T185046Z
URL:https://members.lakeviewroscoevillage.org/events/details/free-wine-tasting-at-the-spanish-square-01-20-2016-2686
END:VEVENT

END:VCALENDAR
