BEGIN:VCALENDAR
VERSION:2.0
PRODID:-//ChamberMaster//Event Calendar 2.0//EN
METHOD:PUBLISH
X-PUBLISHED-TTL:P3D
REFRESH-INTERVAL:P3D
CALSCALE:GREGORIAN
BEGIN:VEVENT
DTSTART:20160306T010000Z
DTEND:20160306T030000Z
X-MICROSOFT-CDO-ALLDAYEVENT:FALSE
SUMMARY:Friends of Blaine 2016 Gala: Casino Night at the Wishlist Gala
DESCRIPTION:Help support strong schools in Lakeview!\n\nFriends of Blaine (FOB) is excited to announce the 2016 Annual Fundraising Gala - "Casino Night at the Wishlist Gala." Friends of Blaine's mission is to raise funds for Blaine and remove some of the financial obstacles. The annual Gala represents FOB's most important fundraising effort of the year.  By working together as a community\, we can raise the bar and make this year the best yet. Friends of Blaine aims to best serve all Blaine Elementary students\, faculty and the community at large.\n\nLakeview's children need to feel valued and confident about their future. By creating partnerships throughout the Lakeview community and with your financial commitment\, Friends of Blaine can help our students to a greater path to success. This Gala is a huge step in bringing the mission of Friends of Blaine to life!
X-ALT-DESC;FMTTYPE=text/html:<p style="-webkit-font-smoothing: antialiased\; outline: none 0px\; -webkit-tap-highlight-color: transparent\; margin: 20px 0px 15px\; padding: 0px\; border: 0px\; font-stretch: inherit\; font-size: 14px\; line-height: 21px\; font-family: 'Helvetica Neue'\, HelveticaNeue\, Helvetica\, Arial\, sans-serif\; vertical-align: baseline\; box-sizing: border-box\; color: rgb(68\, 68\, 68)\;">Help support strong schools in Lakeview!</p>\n\n<p style="-webkit-font-smoothing: antialiased\; outline: none 0px\; -webkit-tap-highlight-color: transparent\; margin: 15px 0px\; padding: 0px\; border: 0px\; font-stretch: inherit\; font-size: 14px\; line-height: 21px\; font-family: 'Helvetica Neue'\, HelveticaNeue\, Helvetica\, Arial\, sans-serif\; vertical-align: baseline\; box-sizing: border-box\; color: rgb(68\, 68\, 68)\;">Friends of Blaine (FOB) is excited to announce the 2016 Annual Fundraising Gala - &ldquo\;Casino Night at the Wishlist Gala.&rdquo\; Friends of Blaine&rsquo\;s mission is to raise funds for Blaine and remove some of the financial obstacles. The annual Gala represents FOB&rsquo\;s most important fundraising effort of the year. &nbsp\;By working together as a community\, we can raise the bar and make this year the best yet. Friends of Blaine aims to best serve all Blaine Elementary students\, faculty and the community at large.</p>\n\n<p style="-webkit-font-smoothing: antialiased\; outline: none 0px\; -webkit-tap-highlight-color: transparent\; margin: 15px 0px 0px\; padding: 0px\; border: 0px\; font-stretch: inherit\; font-size: 14px\; line-height: 21px\; font-family: 'Helvetica Neue'\, HelveticaNeue\, Helvetica\, Arial\, sans-serif\; vertical-align: baseline\; box-sizing: border-box\; color: rgb(68\, 68\, 68)\;">Lakeview&rsquo\;s children need to feel valued and confident about their future. By creating partnerships throughout the Lakeview community and with your financial commitment\, Friends of Blaine can help our students to a greater path to success. This Gala is a huge step in&nbsp\;bringing the mission of Friends of Blaine to life!&nbsp\;</p>\n
LOCATION:Ravenswood Event Center - 4011 N Ravenswood Ave\, Chicago\, IL 60613
UID:e.1819.2838
SEQUENCE:3
DTSTAMP:20260422T171624Z
URL:https://members.lakeviewroscoevillage.org/events/details/friends-of-blaine-2016-gala-casino-night-at-the-wishlist-gala-03-05-2016-2838
END:VEVENT

END:VCALENDAR
