BEGIN:VCALENDAR
VERSION:2.0
PRODID:-//ChamberMaster//Event Calendar 2.0//EN
METHOD:PUBLISH
X-PUBLISHED-TTL:P3D
REFRESH-INTERVAL:P3D
CALSCALE:GREGORIAN
BEGIN:VEVENT
DTSTART:20131213T010000Z
DTEND:20131213T030000Z
X-MICROSOFT-CDO-ALLDAYEVENT:FALSE
SUMMARY:Fuga Salon & Spa Holiday Open House
DESCRIPTION:Stop by Fuga Salon & Spa for a Holiday Open House!\n\n\n\nTreat yourself to a night of pampering\, appetizers & refreshments.\n\nComplimentary services:\n\n	\n		polish changes\n	\n		eyebrow waxes\n	\n		skin analyses\n\n\n\nExclusive event promotions include:\n\n	\n		20% off all retail products\n	\n		Purchase 3 Glycolic Resurfacing Treatments for $225 and receive $25 to use in January\n	\n		Purchase a Jan Marini Skin Care Management System for 20% off and receive a complimentary Age Intervention Eye Cream\n\n\n\nNo appointment needed\, stop on in. We look forward to seeing you!
X-ALT-DESC;FMTTYPE=text/html:Stop by Fuga Salon &amp\; Spa for&nbsp\;a Holiday Open House!<br />\n<br />\nTreat yourself to a night of pampering\,&nbsp\;appetizers &amp\; refreshments.<br />\nComplimentary services:\n<ul>\n	<li>\n		polish changes</li>\n	<li>\n		eyebrow waxes</li>\n	<li>\n		skin analyses</li>\n</ul>\n<br />\nExclusive event promotions include:\n<ul>\n	<li>\n		20% off all retail products</li>\n	<li>\n		Purchase 3 Glycolic Resurfacing Treatments for $225 and receive $25 to use in January</li>\n	<li>\n		<span style="font-family: &quot\;Tahoma&quot\;\,&quot\;sans-serif&quot\;\; font-size: 10pt\; mso-fareast-font-family: Calibri\; mso-fareast-theme-font: minor-latin\; mso-ansi-language: EN-US\; mso-fareast-language: EN-US\; mso-bidi-language: AR-SA\;"><font color="#000000">Purchase a Jan Marini Skin Care Management System for 20% off and receive a complimentary Age Intervention Eye Cream</font></span></li>\n</ul>\n<br />\n<span style="font-family: &quot\;Tahoma&quot\;\,&quot\;sans-serif&quot\;\; font-size: 10pt\; mso-fareast-font-family: Calibri\; mso-fareast-theme-font: minor-latin\; mso-ansi-language: EN-US\; mso-fareast-language: EN-US\; mso-bidi-language: AR-SA\;"><font color="#000000">No appointment needed\, stop on in. We look forward to seeing you! </font></span>
LOCATION:Fuga Salon & Spa at 3853 N Southport
UID:e.1819.151
SEQUENCE:3
DTSTAMP:20260424T190847Z
URL:https://members.lakeviewroscoevillage.org/events/details/fuga-salon-spa-holiday-open-house-12-12-2013-151
END:VEVENT

END:VCALENDAR
