BEGIN:VCALENDAR
VERSION:2.0
PRODID:-//ChamberMaster//Event Calendar 2.0//EN
METHOD:PUBLISH
X-PUBLISHED-TTL:P3D
REFRESH-INTERVAL:P3D
CALSCALE:GREGORIAN
BEGIN:VEVENT
DTSTART;VALUE=DATE:20141017
DTEND;VALUE=DATE:20141018
TRANSP:TRANSPARENT
X-MICROSOFT-CDO-ALLDAYEVENT:TRUE
SUMMARY:GAP on Southport One Year Anniversary
DESCRIPTION:Come celebrate our one year anniversary!\n\n\n\nKid & baby photo shoot starts at 6:00PM\n\nDrinks+Dessert+Music+Hair Braiding+Prizes
X-ALT-DESC;FMTTYPE=text/html:Come celebrate our one year anniversary!<br />\n<br />\nKid &amp\; baby photo shoot starts at 6:00PM<br />\nDrinks+Dessert+Music+Hair Braiding+Prizes
LOCATION:GAP 3416 N Southport Ave.
UID:e.1819.506
SEQUENCE:3
DTSTAMP:20260423T224138Z
URL:https://members.lakeviewroscoevillage.org/events/details/gap-on-southport-one-year-anniversary-10-17-2014-506
END:VEVENT

END:VCALENDAR
