BEGIN:VCALENDAR
VERSION:2.0
PRODID:-//ChamberMaster//Event Calendar 2.0//EN
METHOD:PUBLISH
X-PUBLISHED-TTL:P3D
REFRESH-INTERVAL:P3D
CALSCALE:GREGORIAN
BEGIN:VEVENT
DTSTART:20161115T020000Z
DTEND:20161115T050000Z
X-MICROSOFT-CDO-ALLDAYEVENT:FALSE
SUMMARY:geeks who drink TRIVIA NIGHT MONDAYS
DESCRIPTION:It's fair to say that nobody likes Mondays. Well. here at Beef & Barley we decided it was time to do something about it. Geeks Who Drink are coming to Mondays at Beef & Barley beginning October 3rd.\n\n \n\nWho are the geeks who drink?\n\n \n\nGeeks Who Drink is a Denver-based company that hosts Bar Trivia at over 600 pubs and restaurants in 35 states. Their quiz is a collective effort of dozens of quizmasters\, writers\, fact-checkers\, graphic designers and artists.\n\n \n\nWhats the quiz format?\n\n \n\nThe quiz consists of eight rouunds of eight questions each\, played by teams of up to six people. Questions are read aloud by the quizmaster and teams write down the answers\, turning them in at the end of each round.\n\nRounds 1\, 4 and 6 are themed rounds - anything from "Eight Questions About Sex That Won't Make You Too Uncomfortable" to "TV Shows Yoyur Parents Watch" Round 2 is a music round worth double points: name the artist and title for each song clip. Round 3 is a multiple choice round or a speed roumd. Round 5 is a visual round based on a printed handout. The all-audio Round 7 usually covers movies or TV shows\, and is worth the standard eight points. Finally\, Round 8 is always 16 points on Random Knowledge.\n\nOne round can be jokered\, doubling your points for that round only (yes\, the 16-point rounds are fair game). The team with the most points after eight rounds is the winner.\n\nQuizzes are free tomplay and prizes will be awarded to the top 3 finishing teams\, and somewhere in the mix we will also be giving out a free round of drinks to one lucky team.\n\nFinally something to look forward to on Mondays.\n\nFor more information\, on Geeks Who Drink\, or to see a sample quiz\, visit their website.
X-ALT-DESC;FMTTYPE=text/html:<div>It&#39\;s fair to say that nobody likes Mondays. Well. here at Beef &amp\; Barley we decided it was time to do something about it. Geeks Who Drink are coming to Mondays at Beef &amp\; Barley beginning October 3rd.</div>\n\n<div>&nbsp\;</div>\n\n<div>Who are the geeks who drink?</div>\n\n<div>&nbsp\;</div>\n\n<div>Geeks Who Drink is a Denver-based company that hosts Bar Trivia at over 600 pubs and restaurants in 35 states. Their quiz is a collective effort of dozens of quizmasters\, writers\, fact-checkers\, graphic designers and artists.</div>\n\n<div>&nbsp\;</div>\n\n<div>Whats the quiz format?</div>\n\n<div>&nbsp\;</div>\n\n<div>The quiz consists of eight rouunds of eight questions each\, played by teams of up to six people. Questions are read aloud by the quizmaster and teams write down the answers\, turning them in at the end of each round.</div>\n\n<div>Rounds 1\, 4 and 6 are themed rounds - anything from &quot\;Eight Questions About Sex That Won&#39\;t Make You Too Uncomfortable&quot\; to &quot\;TV Shows Yoyur Parents Watch&quot\; Round 2 is&nbsp\;a music round worth double points: name the artist and title for each song clip. Round 3 is a multiple choice round or a speed roumd. Round 5 is a visual round based on a printed handout. The all-audio Round 7 usually covers movies or TV shows\, and is worth the standard eight points. Finally\, Round 8 is always 16 points on Random Knowledge.</div>\n\n<div>One round can be jokered\, doubling your points for that round only (yes\, the 16-point rounds are fair game). The team with the most points after eight rounds is the winner.</div>\n\n<div>Quizzes are free tomplay and prizes will be awarded to the top 3 finishing teams\, and somewhere in the mix we will also be giving out a free round of drinks to one lucky team.</div>\n\n<div>Finally something to look forward to on Mondays.</div>\n\n<div>For more information\, on Geeks Who Drink\, or to see a sample quiz\, visit their website.</div>\n
LOCATION:Beef & Barley is a neighborhood gastropub located in the heart of Lakeview that serves up craft beers\, cocktails and shared plated with a Chicago twist. The team rides themselves on offering guests a relaxed dining experience with an ever-changing currated list of Midwest\, hard to find brews and imaginative craft cocktails. Chef Cecil Rodriguez's seasonal menus are inspired by his love of Chicago and all of its eclectic neighborhoods and cuisines. With a highly affordable menu and specials each night of the week\, Beef & Barley offers something for everyone. Guests will never be bored with an array of entertainment options from trivia nights\, skee ball\, board games and old school photo booth.
UID:e.1819.3614
SEQUENCE:3
DTSTAMP:20260420T064919Z
URL:https://members.lakeviewroscoevillage.org/events/details/geeks-who-drink-trivia-night-mondays-11-14-2016-3614
END:VEVENT

END:VCALENDAR
