BEGIN:VCALENDAR
VERSION:2.0
PRODID:-//ChamberMaster//Event Calendar 2.0//EN
METHOD:PUBLISH
X-PUBLISHED-TTL:P3D
REFRESH-INTERVAL:P3D
CALSCALE:GREGORIAN
BEGIN:VEVENT
DTSTART:20170928T153000Z
DTEND:20170928T153000Z
X-MICROSOFT-CDO-ALLDAYEVENT:FALSE
SUMMARY:GeNarrations Sessions
DESCRIPTION:Seniors in the Lakeview area are getting an opportunity to tell a personal narrative\, perform it for friends and family and then attend a play at The Goodman Theatre - all for free! Renaissance Saint Luke hosts the group called GeNarrations\, which is open to area seniors age 55 and up. Guided by a Goodman Theatre professional\, the group discusses the current topic for each session which is based on the play running at the theatre. \n\nIt's a small\, friendly group and newcomers are always welcome! The social interaction\, creative stimulation and opportunity for personal reflection and sharing all combine to make this a uniquely engaging experience. The cherry on top is free attendance for group participants\, to the Goodman for one of their spectacular live performances. \n\nWhat do Renaissance Saint Luke GeNarrations participants have to say about their experience? \n\nCharlene: What a great time! \n\nRose: Thoroughly enjoyed the program. \n\nGeNarrations Sessions are starting up again on Thursday\, September 28th at 10:30am. If you are (or know of) a senior who'd like to join in\, come on over! Renaissance Saint Luke is located at 1501 W. Belmont (just across the street from the new Whole Foods at Belmont and Ashland). \n\nKeeping seniors engaged is paramount at this 55+ community\, with plenty of opportunity for social programming\, including inter-generational events\, yoga and fitness\, garden club\, potlucks and much more all free of charge to residents. \n\nSenior living in Lakeview\, at it's very best!
X-ALT-DESC;FMTTYPE=text/html:<p style="margin: 10px 0px\; padding: 0px\; color: rgb(32\, 32\, 32)\; font-family: Helvetica\; font-size: 16px\; line-height: 24px\;">Seniors in the Lakeview area are getting an opportunity to tell a personal narrative\, perform it for friends and family and then attend a play at The Goodman Theatre - all for free! Renaissance Saint Luke hosts the group called GeNarrations\, which is open to area seniors age 55 and up. Guided by a Goodman Theatre professional\, the group discusses the current topic for each session which is based on the play running at the theatre.&nbsp\;</p>\n\n<p style="margin: 10px 0px\; padding: 0px\; color: rgb(32\, 32\, 32)\; font-family: Helvetica\; font-size: 16px\; line-height: 24px\;">It&rsquo\;s a small\, friendly group and newcomers are always welcome! The social interaction\, creative stimulation and opportunity for personal reflection and sharing all combine to make this a uniquely engaging experience. The cherry on top is free attendance for group participants\, to the Goodman for one of their spectacular live performances.&nbsp\;</p>\n\n<p style="margin: 10px 0px\; padding: 0px\; color: rgb(32\, 32\, 32)\; font-family: Helvetica\; font-size: 16px\; line-height: 24px\;">What do Renaissance Saint Luke GeNarrations participants have to say about their experience?&nbsp\;</p>\n\n<p style="margin: 10px 0px\; padding: 0px\; color: rgb(32\, 32\, 32)\; font-family: Helvetica\; font-size: 16px\; line-height: 24px\;"><i>Charlene: What a great time!&nbsp\;</i><br />\n<i>Rose: Thoroughly enjoyed the program.&nbsp\;</i></p>\n\n<p style="margin: 10px 0px\; padding: 0px\; color: rgb(32\, 32\, 32)\; font-family: Helvetica\; font-size: 16px\; line-height: 24px\;">GeNarrations Sessions are starting up again on&nbsp\;<span class="aBn" data-term="goog_1047142939" style="border-bottom: 1px dashed rgb(204\, 204\, 204)\; position: relative\; top: -2px\; z-index: 0\;" tabindex="0"><span class="aQJ" style="position: relative\; top: 2px\; z-index: -1\;">Thursday\, September 28th at 10:30am</span></span>. If you are (or know of) a senior who&rsquo\;d like to join in\, come on over! Renaissance Saint Luke is located at 1501 W. Belmont (just across the street from the new Whole Foods at Belmont and Ashland).&nbsp\;</p>\n\n<p style="margin: 10px 0px\; padding: 0px\; color: rgb(32\, 32\, 32)\; font-family: Helvetica\; font-size: 16px\; line-height: 24px\;">Keeping seniors engaged is paramount at this 55+ community\, with plenty of opportunity for social programming\, including inter-generational events\, yoga and fitness\, garden club\, potlucks and much more all free of charge to residents.&nbsp\;</p>\n\n<p style="margin: 10px 0px\; padding: 0px\; color: rgb(32\, 32\, 32)\; font-family: Helvetica\; font-size: 16px\; line-height: 24px\;">Senior living in Lakeview\, at it&rsquo\;s very best!&nbsp\;</p>\n
LOCATION:Renaissance Saint Luke is located at 1501 W. Belmont (just across the street from the new Whole Foods at Belmont and Ashland).
UID:e.1819.5228
SEQUENCE:3
DTSTAMP:20260421T085116Z
URL:https://members.lakeviewroscoevillage.org/events/details/genarrations-sessions-09-28-2017-5228
END:VEVENT

END:VCALENDAR
