BEGIN:VCALENDAR
VERSION:2.0
PRODID:-//ChamberMaster//Event Calendar 2.0//EN
METHOD:PUBLISH
X-PUBLISHED-TTL:P3D
REFRESH-INTERVAL:P3D
CALSCALE:GREGORIAN
BEGIN:VEVENT
DTSTART:20140425T230000Z
DTEND:20140426T010000Z
X-MICROSOFT-CDO-ALLDAYEVENT:FALSE
SUMMARY:Gentle Yoga for Back Care
DESCRIPTION:
X-ALT-DESC;FMTTYPE=text/html:
LOCATION:Ganesha Yoga 3113 N. Lincoln Ave Chicago\, IL 60657
UID:e.1819.267
SEQUENCE:3
DTSTAMP:20260424T121257Z
URL:https://members.lakeviewroscoevillage.org/events/details/gentle-yoga-for-back-care-04-25-2014-267
END:VEVENT

END:VCALENDAR
