BEGIN:VCALENDAR
VERSION:2.0
PRODID:-//ChamberMaster//Event Calendar 2.0//EN
METHOD:PUBLISH
X-PUBLISHED-TTL:P3D
REFRESH-INTERVAL:P3D
CALSCALE:GREGORIAN
BEGIN:VEVENT
DTSTART;VALUE=DATE:20140424
DTEND;VALUE=DATE:20140610
TRANSP:TRANSPARENT
X-MICROSOFT-CDO-ALLDAYEVENT:TRUE
SUMMARY:Give Back Challenge from Guaranteed Rate & Ty Pennington
DESCRIPTION:Give Back Challenge for Community Improvement!\n\n\n\nPresented by Guaranteed Rate\, the Ultimate Neighborhood Give Back Challenge is a nationwide search for people and organizations who are leading projects that make a real and meaningful impact in their communities and neighborhoods.\n\n\n\nProjects can be almost anything: rehabbing classrooms\, improving ball fields\, revamping a youth center\, cleaning up a playground\, planting a community garden\, upgrading a counseling center\, building a warming center...anything that makes the community a better place.\n\n\n\nSix projects will be selected to receive a grand total of up to $100\,000 and a visit from Ty Pennington.
X-ALT-DESC;FMTTYPE=text/html:Give Back Challenge for Community Improvement!<br />\n<br />\nPresented by Guaranteed Rate\, the Ultimate Neighborhood Give Back Challenge is a nationwide search for people and organizations who are leading projects that make a real and meaningful impact in their communities and neighborhoods.<br />\n<br />\nProjects can be almost anything: rehabbing classrooms\, improving ball fields\, revamping a youth center\, cleaning up a playground\, planting a community garden\, upgrading a counseling center\, building a warming center...anything that makes the community a better place.<br />\n<br />\nSix projects will be selected to receive a grand total of up to $100\,000 and a visit from Ty Pennington.
LOCATION:Submit online by June 9 at: https://www.facebook.com/guaranteedRate?v=app_1500011996894224&app_data=gaReferrerOverride%3D
UID:e.1819.271
SEQUENCE:3
DTSTAMP:20260424T073803Z
URL:https://members.lakeviewroscoevillage.org/events/details/give-back-challenge-from-guaranteed-rate-ty-pennington-04-24-2014-271
END:VEVENT

END:VCALENDAR
