BEGIN:VCALENDAR
VERSION:2.0
PRODID:-//ChamberMaster//Event Calendar 2.0//EN
METHOD:PUBLISH
X-PUBLISHED-TTL:P3D
REFRESH-INTERVAL:P3D
CALSCALE:GREGORIAN
BEGIN:VEVENT
DTSTART:20161130T000000Z
DTEND:20161130T030000Z
X-MICROSOFT-CDO-ALLDAYEVENT:FALSE
SUMMARY:Giving Tuesday Painting Party benefiting the Athenaeum Theatre
DESCRIPTION:Join us on Giving Tuesday this year as Bottle & Bottega gives back to its local community!  $5 of the ticket price for this event will be donated to the Athenaeum Theatre's fund for a new roof.  \n\nTicket price includes use of all necessary paint supplies and aprons\, instruction\, and a 16x20 take-home canvas!\n\n\n\n6:00pm - 6:30pm BYOB Cocktail Reception\n\n6:30pm - 9:00pm Painting  \n\n- The first 30 minutes of the event is the time to settle in and grab your drink of choice. We are BYOB\, so bring what you would like to drink!\n\n- We have glasses\, wine openers\, plastic ware\, paper plates\, napkins and ice here for you. You're welcome to bring any food items\; please note table space is limited.\n\n\n\nREGISTER HERE: https://sites.cimplebox.com/events/event.aspx?s=3291&c=1650&eid=251077&r=0.2412914\n\n\n\nCancellations: Cancellations made within 48 hours are subject only to a credit. Sorry   no refunds on no-shows.\n\nAlcohol: Because alcohol is present during our events\, we restrict attendance to adults 18 and over. Alcohol consumption is permitted only for adults over 21. Please have an ID available.\n\nImages: Feel like going rogue? The instructor will teach the image featured on the calendar step by step\, but they are happy to answer questions if you choose another image from our gallery. Painting a different image than the one being taught is NOT recommended for beginners.\n\nPromo codes: Promo codes invalid Friday through Saturday\, as well as at off-site events and special events.\n\nEvent Minimums: This event needs 5 registrations to run. We will reach out prior to the event if there is a chance of cancellation.
X-ALT-DESC;FMTTYPE=text/html:<p>Join us on&nbsp\;<a href="https://www.givingtuesday.org/" style="color: rgb(244\, 198\, 40)\; text-decoration: none\; background: transparent\; border: 0px\; margin: 0px\; padding: 0px\; vertical-align: baseline\; outline: none\;">Giving Tuesday</a>&nbsp\;this year as Bottle &amp\; Bottega gives back to its local community!&nbsp\;&nbsp\;$5 of the ticket price for this event will be donated to the Athenaeum Theatre&#39\;s fund for a new roof. &nbsp\;</p>\n\n<p>Ticket price includes use of all necessary paint supplies and aprons\, instruction\, and a 16x20 take-home canvas!<br />\n<br />\n<strong>6:00pm - 6:30pm&nbsp\;</strong>BYOB Cocktail Reception<br />\n<strong>6:30pm&nbsp\;- 9:00pm&nbsp\;</strong>Painting &nbsp\;</p>\n\n<p>- The first 30 minutes of the event is the time to settle in and grab your drink of choice. We are BYOB\, so bring what you would like to drink!<br />\n- We have glasses\, wine openers\, plastic ware\, paper plates\, napkins and ice here for you. You&rsquo\;re welcome to bring any food items\; please note table space is limited.<br />\n<br />\n<strong>REGISTER HERE</strong>:&nbsp\;<a href="https://sites.cimplebox.com/events/event.aspx?s=3291&amp\;c=1650&amp\;eid=251077&amp\;r=0.2412914">https://sites.cimplebox.com/events/event.aspx?s=3291&amp\;c=1650&amp\;eid=251077&amp\;r=0.2412914</a><br />\n<br />\n<strong>Cancellations:</strong>&nbsp\;Cancellations made within 48 hours are subject only to a credit. Sorry &ndash\; no refunds on no-shows.<br />\n<strong>Alcohol:</strong>&nbsp\;Because alcohol is present during our events\, we restrict attendance to adults 18 and over. Alcohol consumption is permitted only for adults over 21. Please have an ID available.<br />\n<strong>Images:</strong>&nbsp\;Feel like going rogue? The instructor will teach the image featured on the calendar step by step\, but they are happy to answer questions if you choose another image from our gallery. Painting a different image than the one being taught is NOT recommended for beginners.<br />\n<strong>Promo codes:</strong>&nbsp\;Promo codes invalid Friday through Saturday\, as well as at off-site events and special events.<br />\n<strong>Event Minimums:</strong>&nbsp\;This event needs 5 registrations to run. We will reach out&nbsp\;prior to the event if there is a chance of cancellation.</p>\n
LOCATION:2900 N Lincoln Ave Chicago\, IL 60657
UID:e.1819.4843
SEQUENCE:3
DTSTAMP:20260420T065659Z
URL:https://members.lakeviewroscoevillage.org/events/details/giving-tuesday-painting-party-benefiting-the-athenaeum-theatre-11-29-2016-4843
END:VEVENT

END:VCALENDAR
