BEGIN:VCALENDAR
VERSION:2.0
PRODID:-//ChamberMaster//Event Calendar 2.0//EN
METHOD:PUBLISH
X-PUBLISHED-TTL:P3D
REFRESH-INTERVAL:P3D
CALSCALE:GREGORIAN
BEGIN:VEVENT
DTSTART:20161208T000000Z
DTEND:20161208T030000Z
X-MICROSOFT-CDO-ALLDAYEVENT:FALSE
SUMMARY:Glass Ornament Painting
DESCRIPTION:Join us at our *BYOB* studio and paint three ornaments with the help of a local artist! Ticket price includes all paint supplies\, instruction\, aprons and glassware!\n\n\n\n6:00pm - 6:30pm BYOB Cocktail Reception\n\n6:30pm - 9:00pm Painting  \n\n- The first 30 minutes of the event is settle in and cocktail time! We are BYOB so bring what you would like to drink!\n\n- We have glasses\, wine openers\, plastic ware\, paper plates\, napkins and ice here for you. You're welcome to bring any food items\; please note table space is limited.\n\nREGISTER HERE: https://sites.cimplebox.com/events/event.aspx?s=3291&c=1650&eid=252443&r=0.1737425\n\nCancellations: Cancellations made within 48 hours are subject only to a credit. We are sorry but there will be no refunds on no-shows.\n\nAlcohol: Because alcohol is present during our events\, we restrict attendance to adults 18 and over. Alcohol consumption is permitted only for adults over 21. Please have an ID available.\n\nImages: Feel like going rogue? The instructor will teach the image featured on the calendar step by step\, but they are happy to answer questions if you choose another image from our gallery. Painting a different image than the one being taught is NOT recommended for beginners.\n\nEvent Minimums: This event needs 5 registrations to run. We will reach out prior to the event if there is a chance of cancellation.
X-ALT-DESC;FMTTYPE=text/html:<p>Join us at our *BYOB* studio and paint three ornaments&nbsp\;with the help of a local artist! Ticket price includes all paint supplies\, instruction\, aprons and glassware!<br />\n<br />\n<strong>6:00pm - 6:30pm&nbsp\;</strong>BYOB Cocktail Reception<br />\n<strong>6:30pm&nbsp\;- 9:00pm&nbsp\;</strong>Painting &nbsp\;</p>\n\n<p>- The first 30 minutes of the event is settle in and cocktail time! We are BYOB so bring what you would like to drink!<br />\n- We have glasses\, wine openers\, plastic ware\, paper plates\, napkins and ice here for you. You&rsquo\;re welcome to bring any food items\; please note table space is limited.</p>\n\n<p><strong>REGISTER HERE</strong>:&nbsp\;<a href="https://sites.cimplebox.com/events/event.aspx?s=3291&amp\;c=1650&amp\;eid=252443&amp\;r=0.1737425">https://sites.cimplebox.com/events/event.aspx?s=3291&amp\;c=1650&amp\;eid=252443&amp\;r=0.1737425</a></p>\n\n<p><strong>Cancellations:</strong>&nbsp\;Cancellations made within 48 hours are subject only to a credit. We are sorry but there will be no refunds on no-shows.<br />\n<strong>Alcohol:</strong>&nbsp\;Because alcohol is present during our events\, we restrict attendance to adults 18 and over. Alcohol consumption is permitted only for adults over 21. Please have an ID available.<br />\n<strong>Images:</strong>&nbsp\;Feel like going rogue? The instructor will teach the image featured on the calendar step by step\, but they are happy to answer questions if you choose another image from our gallery. Painting a different image than the one being taught is NOT recommended for beginners.<br />\n<strong>Event Minimums:</strong>&nbsp\;This event needs 5 registrations to run. We will reach out&nbsp\;prior to the event if there is a chance of cancellation.</p>\n
LOCATION:2900 N Lincoln Ave Chicago\, IL 60657
UID:e.1819.4846
SEQUENCE:3
DTSTAMP:20260420T045920Z
URL:https://members.lakeviewroscoevillage.org/events/details/glass-ornament-painting-12-07-2016-4846
END:VEVENT

END:VCALENDAR
