BEGIN:VCALENDAR
VERSION:2.0
PRODID:-//ChamberMaster//Event Calendar 2.0//EN
METHOD:PUBLISH
X-PUBLISHED-TTL:P3D
REFRESH-INTERVAL:P3D
CALSCALE:GREGORIAN
BEGIN:VEVENT
DTSTART:20141020T230000Z
DTEND:20141021T010000Z
X-MICROSOFT-CDO-ALLDAYEVENT:FALSE
SUMMARY:Global Voices Author Night with Clarence Page
DESCRIPTION:Pulitzer Prize-winner Clarence Page showcases his new column collection\, CULTURE WORRIER: Selected Columns 1984 ? 2014: Reflections on Race\, Politics and Social Change\, published to coincide with the 30th anniversary of his first Chicago Tribune column. A frequent broadcast guest on shows such as MSNBC?s The Chris Matthews Show and NPR?s Weekend Edition\, Page is held in equally high esteem for his work in both print and broadcast media?not only for his wealth of knowledge and insight\, but also for his incisive criticisms regarding society?s most pressing political and social issues. Join us as Mr. Page discusses his craft and perspective-as one of the nation?s preeminent African-American writers and commentators on politics\, pop culture\, race and family. Books available for purchase. Free and open to the public.
X-ALT-DESC;FMTTYPE=text/html:Pulitzer Prize-winner Clarence Page showcases his new column collection\, CULTURE WORRIER: Selected Columns 1984 ? 2014: Reflections on Race\, Politics and Social Change\, published to coincide with the 30th anniversary of his first Chicago Tribune column. A frequent broadcast guest on shows such as MSNBC?s The Chris Matthews Show and NPR?s Weekend Edition\, Page is held in equally high esteem for his work in both print and broadcast media?not only for his wealth of knowledge and insight\, but also for his incisive criticisms regarding society?s most pressing political and social issues. Join us as Mr. Page discusses his craft and perspective-as one of the nation?s preeminent African-American writers and commentators on politics\, pop culture\, race and family. Books available for purchase. Free and open to the public.
LOCATION:International House\, Assembly Hall 1414 E 59th St\, Chicago\, IL 60637
UID:e.1819.364
SEQUENCE:3
DTSTAMP:20260423T225059Z
URL:https://members.lakeviewroscoevillage.org/events/details/global-voices-author-night-with-clarence-page-10-20-2014-364
END:VEVENT

END:VCALENDAR
