BEGIN:VCALENDAR
VERSION:2.0
PRODID:-//ChamberMaster//Event Calendar 2.0//EN
METHOD:PUBLISH
X-PUBLISHED-TTL:P3D
REFRESH-INTERVAL:P3D
CALSCALE:GREGORIAN
BEGIN:VEVENT
DTSTART;VALUE=DATE:20140228
DTEND;VALUE=DATE:20140308
TRANSP:TRANSPARENT
X-MICROSOFT-CDO-ALLDAYEVENT:TRUE
SUMMARY:Graduate Student Survey Request
DESCRIPTION:Dear business owners and managers:\n\n\n\nWe are a team graduate students from the University of Chicago's Booth School of Business\, and request your assistance with a seven-question survey.\n\n\n\nWe are administering this survey to understand the local need for mobile shredding services in and around your area. Please follow this link to conduct this short survey: https://www.surveymonkey.com/s/B2PK3L3  \n\n\n\nIf you have any questions\, please contact Marc Raifman at Raifman@uchicago.edu. \n\n\n\nThank you very much for your time.
X-ALT-DESC;FMTTYPE=text/html:<span style="color: rgb(0\, 0\, 0)\; font-family: Arial\, sans-serif\; font-size: medium\; line-height: 24px\;">Dear business owners and managers:</span><br style="color: rgb(0\, 0\, 0)\; font-family: Arial\, sans-serif\; font-size: medium\; line-height: 24px\;" />\n<br style="color: rgb(0\, 0\, 0)\; font-family: Arial\, sans-serif\; font-size: medium\; line-height: 24px\;" />\n<span style="color: rgb(0\, 0\, 0)\; font-family: Arial\, sans-serif\; font-size: medium\; line-height: 24px\;">We are a team graduate students from the University of Chicago&rsquo\;s Booth School of Business\, and request your assistance with a seven-question survey.<br />\n<br />\nWe are administering this survey to understand the local need for mobile shredding services in and around your area. Please follow this link to conduct this short survey:<strong>&nbsp\;</strong></span><strong><span style="color:#000080\;">https://www.surveymonkey.com/s/B2PK3L3&#8203\;</span>&nbsp\;</strong><br style="color: rgb(0\, 0\, 0)\; font-family: Arial\, sans-serif\; font-size: medium\; line-height: 24px\;" />\n<br style="color: rgb(0\, 0\, 0)\; font-family: Arial\, sans-serif\; font-size: medium\; line-height: 24px\;" />\n<span style="color: rgb(0\, 0\, 0)\; font-family: Arial\, sans-serif\; font-size: medium\; line-height: 24px\;">If you have any questions\, please contact Marc Raifman at Raifman@uchicago.edu.&nbsp\;</span><br style="color: rgb(0\, 0\, 0)\; font-family: Arial\, sans-serif\; font-size: medium\; line-height: 24px\;" />\n<br style="color: rgb(0\, 0\, 0)\; font-family: Arial\, sans-serif\; font-size: medium\; line-height: 24px\;" />\n<span style="color: rgb(0\, 0\, 0)\; font-family: Arial\, sans-serif\; font-size: medium\; line-height: 24px\;">Thank you very much for your time.</span><br style="color: rgb(0\, 0\, 0)\; font-family: Arial\, sans-serif\; font-size: medium\; line-height: 24px\;" />\n<br style="color: rgb(0\, 0\, 0)\; font-family: Arial\, sans-serif\; font-size: medium\; line-height: 24px\;" />\n<br style="color: rgb(0\, 0\, 0)\; font-family: Arial\, sans-serif\; font-size: medium\; line-height: 24px\;" />\n&nbsp\;
LOCATION:Online survey: https://www.surveymonkey.com/s/B2PK3L3
UID:e.1819.217
SEQUENCE:3
DTSTAMP:20260424T134459Z
URL:https://members.lakeviewroscoevillage.org/events/details/graduate-student-survey-request-02-28-2014-217
END:VEVENT

END:VCALENDAR
