BEGIN:VCALENDAR
VERSION:2.0
PRODID:-//ChamberMaster//Event Calendar 2.0//EN
METHOD:PUBLISH
X-PUBLISHED-TTL:P3D
REFRESH-INTERVAL:P3D
CALSCALE:GREGORIAN
BEGIN:VEVENT
DTSTART:20140131T003000Z
DTEND:20140131T023000Z
X-MICROSOFT-CDO-ALLDAYEVENT:FALSE
SUMMARY:Grand Opening at Wrightwood Furniture
DESCRIPTION:Join us for our VIP Grand Opening Party at Wrightwood Furniture.\n\n\n\nExplore two floors of distinct furniture designs & home accents while noshing on comfort foods and cocktails from Catering by Michael's.\n\n\n\n15% of sales from Jan 30- Feb 28 will be donated to Designs for Dignity www.designsfordignity.org\n\n\n\n\n\nWrightwood Furniture provides unique\, high quality\, handcrafted furniture originating from artisanal factories around the world at affordable factory-direct prices\, to consumers throughout Chicago and surrounding suburbs. Wrightwood's vast and vibrant selection of modern to fashionably rustic style is ever-changing and is available online or in-store.
X-ALT-DESC;FMTTYPE=text/html:Join us for our VIP Grand Opening Party at Wrightwood Furniture.<br />\n<br />\nExplore two floors of distinct furniture designs &amp\; home accents while noshing on comfort foods and cocktails from Catering by Michael&#39\;s.<br />\n<br />\n15% of sales from Jan 30- Feb 28&nbsp\;will be donated to Designs for Dignity www.designsfordignity.org<br />\n<br />\n<br />\n<em>Wrightwood Furniture provides unique\, high quality\, handcrafted furniture originating from artisanal factories around the world at affordable factory-direct prices\, to consumers throughout Chicago and surrounding suburbs. Wrightwood&#39\;s vast and vibrant selection of modern to fashionably rustic style is ever-changing and is available online or in-store. </em>
LOCATION:Wrightwood Furniture 3036 N. Lincoln Ave Chicago\, IL 60657
UID:e.1819.181
SEQUENCE:3
DTSTAMP:20260424T173132Z
URL:https://members.lakeviewroscoevillage.org/events/details/grand-opening-at-wrightwood-furniture-01-30-2014-181
END:VEVENT

END:VCALENDAR
