BEGIN:VCALENDAR
VERSION:2.0
PRODID:-//ChamberMaster//Event Calendar 2.0//EN
METHOD:PUBLISH
X-PUBLISHED-TTL:P3D
REFRESH-INTERVAL:P3D
CALSCALE:GREGORIAN
BEGIN:VEVENT
DTSTART:20161028T230000Z
DTEND:20161029T010000Z
X-MICROSOFT-CDO-ALLDAYEVENT:FALSE
SUMMARY:Halloween at the Lake View YMCA
DESCRIPTION:Join us for a frighteningly fun filled event for the whole family. Bring your friends and neighbors too! This event is free and open to the community.\n\n\n\nEvent includes:\n\n  Family Games\n\n  Arts & Crafts\n\n  Creative Costumes\n\n  Healthy Snacks\n\n  Spooky Fun\n\n  and More!
X-ALT-DESC;FMTTYPE=text/html:<p>Join us for a frighteningly fun filled event for the whole&nbsp\;family. Bring your friends and neighbors too! This event&nbsp\;is free and open to the community.<br />\n<br />\nEvent includes:</p>\n\n<p>&bull\; Family Games<br />\n&bull\; Arts &amp\; Crafts<br />\n&bull\; Creative Costumes<br />\n&bull\; Healthy Snacks<br />\n&bull\; Spooky Fun<br />\n&bull\; and More!</p>\n
LOCATION:Lake View YMCA 3333 N. Marshfield Ave.\, Chicago\, IL 60657
UID:e.1819.3813
SEQUENCE:3
DTSTAMP:20260422T085123Z
URL:https://members.lakeviewroscoevillage.org/events/details/halloween-at-the-lake-view-ymca-10-28-2016-3813
END:VEVENT

END:VCALENDAR
