BEGIN:VCALENDAR
VERSION:2.0
PRODID:-//ChamberMaster//Event Calendar 2.0//EN
METHOD:PUBLISH
X-PUBLISHED-TTL:P3D
REFRESH-INTERVAL:P3D
CALSCALE:GREGORIAN
BEGIN:VEVENT
DTSTART:20141026T170000Z
DTEND:20141026T180000Z
X-MICROSOFT-CDO-ALLDAYEVENT:FALSE
SUMMARY:Halloween Party at Sheil Park
DESCRIPTION:Join in the spooktacular Halloween fun at Sheil Park! Dress up in your best costume and join in for games\, treats & fun!\n\n\n\nSpecial thanks for the generous support of Alderman Tom Tunney & the 44th Ward
X-ALT-DESC;FMTTYPE=text/html:Join in the spooktacular&nbsp\;Halloween fun at Sheil Park! Dress up in your best costume and join in for games\, treats &amp\; fun!<br />\n<br />\nSpecial thanks for the generous support of Alderman Tom Tunney &amp\; the 44th Ward
LOCATION:Sheil Park: 3505 N Southport
UID:e.1819.512
SEQUENCE:3
DTSTAMP:20260424T002652Z
URL:https://members.lakeviewroscoevillage.org/events/details/halloween-party-at-sheil-park-10-26-2014-512
END:VEVENT

END:VCALENDAR
