BEGIN:VCALENDAR
VERSION:2.0
PRODID:-//ChamberMaster//Event Calendar 2.0//EN
METHOD:PUBLISH
X-PUBLISHED-TTL:P3D
REFRESH-INTERVAL:P3D
CALSCALE:GREGORIAN
BEGIN:VEVENT
DTSTART:20131026T150000Z
DTEND:20131026T180000Z
X-MICROSOFT-CDO-ALLDAYEVENT:FALSE
SUMMARY:Halloween Party at South Lakeview Playground
DESCRIPTION:Join us at the playground for art activities and Halloween fun!
X-ALT-DESC;FMTTYPE=text/html:Join us at the playground for art activities and Halloween fun!
LOCATION:1300 W. Wolfram St.
UID:e.1819.99
SEQUENCE:3
DTSTAMP:20260424T224558Z
URL:https://members.lakeviewroscoevillage.org/events/details/halloween-party-at-south-lakeview-playground-10-26-2013-99
END:VEVENT

END:VCALENDAR
